BEGIN:VCALENDAR
VERSION:2.0
PRODID:-//The Bartram Club - ECPv6.15.20//NONSGML v1.0//EN
CALSCALE:GREGORIAN
METHOD:PUBLISH
X-WR-CALNAME:The Bartram Club
X-ORIGINAL-URL:https://www.thebartramclub.com
X-WR-CALDESC:Events for The Bartram Club
REFRESH-INTERVAL;VALUE=DURATION:PT1H
X-Robots-Tag:noindex
X-PUBLISHED-TTL:PT1H
BEGIN:VTIMEZONE
TZID:America/New_York
BEGIN:DAYLIGHT
TZOFFSETFROM:-0500
TZOFFSETTO:-0400
TZNAME:EDT
DTSTART:20290311T070000
END:DAYLIGHT
BEGIN:STANDARD
TZOFFSETFROM:-0400
TZOFFSETTO:-0500
TZNAME:EST
DTSTART:20291104T060000
END:STANDARD
BEGIN:DAYLIGHT
TZOFFSETFROM:-0500
TZOFFSETTO:-0400
TZNAME:EDT
DTSTART:20300310T070000
END:DAYLIGHT
BEGIN:STANDARD
TZOFFSETFROM:-0400
TZOFFSETTO:-0500
TZNAME:EST
DTSTART:20301103T060000
END:STANDARD
BEGIN:DAYLIGHT
TZOFFSETFROM:-0500
TZOFFSETTO:-0400
TZNAME:EDT
DTSTART:20310309T070000
END:DAYLIGHT
BEGIN:STANDARD
TZOFFSETFROM:-0400
TZOFFSETTO:-0500
TZNAME:EST
DTSTART:20311102T060000
END:STANDARD
BEGIN:DAYLIGHT
TZOFFSETFROM:-0500
TZOFFSETTO:-0400
TZNAME:EDT
DTSTART:20320314T070000
END:DAYLIGHT
BEGIN:STANDARD
TZOFFSETFROM:-0400
TZOFFSETTO:-0500
TZNAME:EST
DTSTART:20321107T060000
END:STANDARD
END:VTIMEZONE
BEGIN:VEVENT
DTSTART;TZID=America/New_York:20301119T180000
DTEND;TZID=America/New_York:20301119T190000
DTSTAMP:20260422T013317
CREATED:20260324T220531Z
LAST-MODIFIED:20260324T220531Z
UID:10003888-1921341600-1921345200@www.thebartramclub.com
SUMMARY:Zumba
DESCRIPTION:Flex Room
URL:https://www.thebartramclub.com/event/zumba-4/2030-11-19/
END:VEVENT
BEGIN:VEVENT
DTSTART;TZID=America/New_York:20301120T171500
DTEND;TZID=America/New_York:20301120T181500
DTSTAMP:20260422T013317
CREATED:20260227T193933Z
LAST-MODIFIED:20260303T221051Z
UID:10003619-1921425300-1921428900@www.thebartramclub.com
SUMMARY:Gentle Yoga Flow
DESCRIPTION:
URL:https://www.thebartramclub.com/event/gentle-yoga-flow/2030-11-20/
END:VEVENT
BEGIN:VEVENT
DTSTART;TZID=America/New_York:20301126T180000
DTEND;TZID=America/New_York:20301126T190000
DTSTAMP:20260422T013317
CREATED:20260324T220531Z
LAST-MODIFIED:20260324T220531Z
UID:10003889-1921946400-1921950000@www.thebartramclub.com
SUMMARY:Zumba
DESCRIPTION:Flex Room
URL:https://www.thebartramclub.com/event/zumba-4/2030-11-26/
END:VEVENT
BEGIN:VEVENT
DTSTART;TZID=America/New_York:20301127T171500
DTEND;TZID=America/New_York:20301127T181500
DTSTAMP:20260422T013317
CREATED:20260227T193933Z
LAST-MODIFIED:20260303T221051Z
UID:10003620-1922030100-1922033700@www.thebartramclub.com
SUMMARY:Gentle Yoga Flow
DESCRIPTION:
URL:https://www.thebartramclub.com/event/gentle-yoga-flow/2030-11-27/
END:VEVENT
BEGIN:VEVENT
DTSTART;TZID=America/New_York:20301203T180000
DTEND;TZID=America/New_York:20301203T190000
DTSTAMP:20260422T013317
CREATED:20260324T220531Z
LAST-MODIFIED:20260324T220531Z
UID:10003890-1922551200-1922554800@www.thebartramclub.com
SUMMARY:Zumba
DESCRIPTION:Flex Room
URL:https://www.thebartramclub.com/event/zumba-4/2030-12-03/
END:VEVENT
BEGIN:VEVENT
DTSTART;TZID=America/New_York:20301204T171500
DTEND;TZID=America/New_York:20301204T181500
DTSTAMP:20260422T013317
CREATED:20260227T193933Z
LAST-MODIFIED:20260303T221051Z
UID:10003621-1922634900-1922638500@www.thebartramclub.com
SUMMARY:Gentle Yoga Flow
DESCRIPTION:
URL:https://www.thebartramclub.com/event/gentle-yoga-flow/2030-12-04/
END:VEVENT
BEGIN:VEVENT
DTSTART;TZID=America/New_York:20301210T180000
DTEND;TZID=America/New_York:20301210T190000
DTSTAMP:20260422T013317
CREATED:20260324T220531Z
LAST-MODIFIED:20260324T220531Z
UID:10003891-1923156000-1923159600@www.thebartramclub.com
SUMMARY:Zumba
DESCRIPTION:Flex Room
URL:https://www.thebartramclub.com/event/zumba-4/2030-12-10/
END:VEVENT
BEGIN:VEVENT
DTSTART;TZID=America/New_York:20301211T171500
DTEND;TZID=America/New_York:20301211T181500
DTSTAMP:20260422T013317
CREATED:20260227T193933Z
LAST-MODIFIED:20260303T221051Z
UID:10003622-1923239700-1923243300@www.thebartramclub.com
SUMMARY:Gentle Yoga Flow
DESCRIPTION:
URL:https://www.thebartramclub.com/event/gentle-yoga-flow/2030-12-11/
END:VEVENT
BEGIN:VEVENT
DTSTART;TZID=America/New_York:20301217T180000
DTEND;TZID=America/New_York:20301217T190000
DTSTAMP:20260422T013317
CREATED:20260324T220531Z
LAST-MODIFIED:20260324T220531Z
UID:10003892-1923760800-1923764400@www.thebartramclub.com
SUMMARY:Zumba
DESCRIPTION:Flex Room
URL:https://www.thebartramclub.com/event/zumba-4/2030-12-17/
END:VEVENT
BEGIN:VEVENT
DTSTART;TZID=America/New_York:20301218T171500
DTEND;TZID=America/New_York:20301218T181500
DTSTAMP:20260422T013317
CREATED:20260227T193933Z
LAST-MODIFIED:20260303T221051Z
UID:10003623-1923844500-1923848100@www.thebartramclub.com
SUMMARY:Gentle Yoga Flow
DESCRIPTION:
URL:https://www.thebartramclub.com/event/gentle-yoga-flow/2030-12-18/
END:VEVENT
BEGIN:VEVENT
DTSTART;TZID=America/New_York:20301224T180000
DTEND;TZID=America/New_York:20301224T190000
DTSTAMP:20260422T013317
CREATED:20260324T220531Z
LAST-MODIFIED:20260324T220531Z
UID:10003893-1924365600-1924369200@www.thebartramclub.com
SUMMARY:Zumba
DESCRIPTION:Flex Room
URL:https://www.thebartramclub.com/event/zumba-4/2030-12-24/
END:VEVENT
BEGIN:VEVENT
DTSTART;TZID=America/New_York:20301225T171500
DTEND;TZID=America/New_York:20301225T181500
DTSTAMP:20260422T013317
CREATED:20260227T193933Z
LAST-MODIFIED:20260303T221051Z
UID:10003624-1924449300-1924452900@www.thebartramclub.com
SUMMARY:Gentle Yoga Flow
DESCRIPTION:
URL:https://www.thebartramclub.com/event/gentle-yoga-flow/2030-12-25/
END:VEVENT
BEGIN:VEVENT
DTSTART;TZID=America/New_York:20301231T180000
DTEND;TZID=America/New_York:20301231T190000
DTSTAMP:20260422T013317
CREATED:20260324T220531Z
LAST-MODIFIED:20260324T220531Z
UID:10003894-1924970400-1924974000@www.thebartramclub.com
SUMMARY:Zumba
DESCRIPTION:Flex Room
URL:https://www.thebartramclub.com/event/zumba-4/2030-12-31/
END:VEVENT
BEGIN:VEVENT
DTSTART;TZID=America/New_York:20310101T171500
DTEND;TZID=America/New_York:20310101T181500
DTSTAMP:20260422T013317
CREATED:20260227T193933Z
LAST-MODIFIED:20260303T221051Z
UID:10003625-1925054100-1925057700@www.thebartramclub.com
SUMMARY:Gentle Yoga Flow
DESCRIPTION:
URL:https://www.thebartramclub.com/event/gentle-yoga-flow/2031-01-01/
END:VEVENT
BEGIN:VEVENT
DTSTART;TZID=America/New_York:20310107T180000
DTEND;TZID=America/New_York:20310107T190000
DTSTAMP:20260422T013317
CREATED:20260324T220531Z
LAST-MODIFIED:20260324T220531Z
UID:10003895-1925575200-1925578800@www.thebartramclub.com
SUMMARY:Zumba
DESCRIPTION:Flex Room
URL:https://www.thebartramclub.com/event/zumba-4/2031-01-07/
END:VEVENT
BEGIN:VEVENT
DTSTART;TZID=America/New_York:20310108T171500
DTEND;TZID=America/New_York:20310108T181500
DTSTAMP:20260422T013317
CREATED:20260227T193933Z
LAST-MODIFIED:20260303T221051Z
UID:10003626-1925658900-1925662500@www.thebartramclub.com
SUMMARY:Gentle Yoga Flow
DESCRIPTION:
URL:https://www.thebartramclub.com/event/gentle-yoga-flow/2031-01-08/
END:VEVENT
BEGIN:VEVENT
DTSTART;TZID=America/New_York:20310114T180000
DTEND;TZID=America/New_York:20310114T190000
DTSTAMP:20260422T013317
CREATED:20260324T220531Z
LAST-MODIFIED:20260324T220531Z
UID:10003896-1926180000-1926183600@www.thebartramclub.com
SUMMARY:Zumba
DESCRIPTION:Flex Room
URL:https://www.thebartramclub.com/event/zumba-4/2031-01-14/
END:VEVENT
BEGIN:VEVENT
DTSTART;TZID=America/New_York:20310115T171500
DTEND;TZID=America/New_York:20310115T181500
DTSTAMP:20260422T013317
CREATED:20260227T193933Z
LAST-MODIFIED:20260303T221051Z
UID:10003627-1926263700-1926267300@www.thebartramclub.com
SUMMARY:Gentle Yoga Flow
DESCRIPTION:
URL:https://www.thebartramclub.com/event/gentle-yoga-flow/2031-01-15/
END:VEVENT
BEGIN:VEVENT
DTSTART;TZID=America/New_York:20310121T180000
DTEND;TZID=America/New_York:20310121T190000
DTSTAMP:20260422T013317
CREATED:20260324T220531Z
LAST-MODIFIED:20260324T220531Z
UID:10003897-1926784800-1926788400@www.thebartramclub.com
SUMMARY:Zumba
DESCRIPTION:Flex Room
URL:https://www.thebartramclub.com/event/zumba-4/2031-01-21/
END:VEVENT
BEGIN:VEVENT
DTSTART;TZID=America/New_York:20310122T171500
DTEND;TZID=America/New_York:20310122T181500
DTSTAMP:20260422T013317
CREATED:20260227T193933Z
LAST-MODIFIED:20260303T221051Z
UID:10003628-1926868500-1926872100@www.thebartramclub.com
SUMMARY:Gentle Yoga Flow
DESCRIPTION:
URL:https://www.thebartramclub.com/event/gentle-yoga-flow/2031-01-22/
END:VEVENT
BEGIN:VEVENT
DTSTART;TZID=America/New_York:20310128T180000
DTEND;TZID=America/New_York:20310128T190000
DTSTAMP:20260422T013317
CREATED:20260324T220531Z
LAST-MODIFIED:20260324T220531Z
UID:10003898-1927389600-1927393200@www.thebartramclub.com
SUMMARY:Zumba
DESCRIPTION:Flex Room
URL:https://www.thebartramclub.com/event/zumba-4/2031-01-28/
END:VEVENT
BEGIN:VEVENT
DTSTART;TZID=America/New_York:20310129T171500
DTEND;TZID=America/New_York:20310129T181500
DTSTAMP:20260422T013317
CREATED:20260227T193933Z
LAST-MODIFIED:20260303T221051Z
UID:10003629-1927473300-1927476900@www.thebartramclub.com
SUMMARY:Gentle Yoga Flow
DESCRIPTION:
URL:https://www.thebartramclub.com/event/gentle-yoga-flow/2031-01-29/
END:VEVENT
BEGIN:VEVENT
DTSTART;TZID=America/New_York:20310204T180000
DTEND;TZID=America/New_York:20310204T190000
DTSTAMP:20260422T013317
CREATED:20260324T220531Z
LAST-MODIFIED:20260324T220531Z
UID:10003899-1927994400-1927998000@www.thebartramclub.com
SUMMARY:Zumba
DESCRIPTION:Flex Room
URL:https://www.thebartramclub.com/event/zumba-4/2031-02-04/
END:VEVENT
BEGIN:VEVENT
DTSTART;TZID=America/New_York:20310205T171500
DTEND;TZID=America/New_York:20310205T181500
DTSTAMP:20260422T013317
CREATED:20260227T193933Z
LAST-MODIFIED:20260303T221051Z
UID:10003630-1928078100-1928081700@www.thebartramclub.com
SUMMARY:Gentle Yoga Flow
DESCRIPTION:
URL:https://www.thebartramclub.com/event/gentle-yoga-flow/2031-02-05/
END:VEVENT
BEGIN:VEVENT
DTSTART;TZID=America/New_York:20310211T180000
DTEND;TZID=America/New_York:20310211T190000
DTSTAMP:20260422T013317
CREATED:20260324T220531Z
LAST-MODIFIED:20260324T220531Z
UID:10003900-1928599200-1928602800@www.thebartramclub.com
SUMMARY:Zumba
DESCRIPTION:Flex Room
URL:https://www.thebartramclub.com/event/zumba-4/2031-02-11/
END:VEVENT
BEGIN:VEVENT
DTSTART;TZID=America/New_York:20310212T171500
DTEND;TZID=America/New_York:20310212T181500
DTSTAMP:20260422T013317
CREATED:20260227T193933Z
LAST-MODIFIED:20260303T221051Z
UID:10003631-1928682900-1928686500@www.thebartramclub.com
SUMMARY:Gentle Yoga Flow
DESCRIPTION:
URL:https://www.thebartramclub.com/event/gentle-yoga-flow/2031-02-12/
END:VEVENT
BEGIN:VEVENT
DTSTART;TZID=America/New_York:20310218T180000
DTEND;TZID=America/New_York:20310218T190000
DTSTAMP:20260422T013317
CREATED:20260324T220531Z
LAST-MODIFIED:20260324T220531Z
UID:10003901-1929204000-1929207600@www.thebartramclub.com
SUMMARY:Zumba
DESCRIPTION:Flex Room
URL:https://www.thebartramclub.com/event/zumba-4/2031-02-18/
END:VEVENT
BEGIN:VEVENT
DTSTART;TZID=America/New_York:20310219T171500
DTEND;TZID=America/New_York:20310219T181500
DTSTAMP:20260422T013317
CREATED:20260227T193933Z
LAST-MODIFIED:20260303T221051Z
UID:10003632-1929287700-1929291300@www.thebartramclub.com
SUMMARY:Gentle Yoga Flow
DESCRIPTION:
URL:https://www.thebartramclub.com/event/gentle-yoga-flow/2031-02-19/
END:VEVENT
BEGIN:VEVENT
DTSTART;TZID=America/New_York:20310225T180000
DTEND;TZID=America/New_York:20310225T190000
DTSTAMP:20260422T013317
CREATED:20260324T220531Z
LAST-MODIFIED:20260324T220531Z
UID:10003902-1929808800-1929812400@www.thebartramclub.com
SUMMARY:Zumba
DESCRIPTION:Flex Room
URL:https://www.thebartramclub.com/event/zumba-4/2031-02-25/
END:VEVENT
BEGIN:VEVENT
DTSTART;TZID=America/New_York:20310226T171500
DTEND;TZID=America/New_York:20310226T181500
DTSTAMP:20260422T013317
CREATED:20260227T193933Z
LAST-MODIFIED:20260303T221051Z
UID:10003633-1929892500-1929896100@www.thebartramclub.com
SUMMARY:Gentle Yoga Flow
DESCRIPTION:
URL:https://www.thebartramclub.com/event/gentle-yoga-flow/2031-02-26/
END:VEVENT
END:VCALENDAR