BEGIN:VCALENDAR
VERSION:2.0
PRODID:-//The Bartram Club - ECPv6.15.20//NONSGML v1.0//EN
CALSCALE:GREGORIAN
METHOD:PUBLISH
X-WR-CALNAME:The Bartram Club
X-ORIGINAL-URL:https://www.thebartramclub.com
X-WR-CALDESC:Events for The Bartram Club
REFRESH-INTERVAL;VALUE=DURATION:PT1H
X-Robots-Tag:noindex
X-PUBLISHED-TTL:PT1H
BEGIN:VTIMEZONE
TZID:America/New_York
BEGIN:DAYLIGHT
TZOFFSETFROM:-0500
TZOFFSETTO:-0400
TZNAME:EDT
DTSTART:20290311T070000
END:DAYLIGHT
BEGIN:STANDARD
TZOFFSETFROM:-0400
TZOFFSETTO:-0500
TZNAME:EST
DTSTART:20291104T060000
END:STANDARD
BEGIN:DAYLIGHT
TZOFFSETFROM:-0500
TZOFFSETTO:-0400
TZNAME:EDT
DTSTART:20300310T070000
END:DAYLIGHT
BEGIN:STANDARD
TZOFFSETFROM:-0400
TZOFFSETTO:-0500
TZNAME:EST
DTSTART:20301103T060000
END:STANDARD
BEGIN:DAYLIGHT
TZOFFSETFROM:-0500
TZOFFSETTO:-0400
TZNAME:EDT
DTSTART:20310309T070000
END:DAYLIGHT
BEGIN:STANDARD
TZOFFSETFROM:-0400
TZOFFSETTO:-0500
TZNAME:EST
DTSTART:20311102T060000
END:STANDARD
END:VTIMEZONE
BEGIN:VEVENT
DTSTART;TZID=America/New_York:20300417T171500
DTEND;TZID=America/New_York:20300417T181500
DTSTAMP:20260421T164527
CREATED:20260227T193933Z
LAST-MODIFIED:20260303T221051Z
UID:10003588-1902676500-1902680100@www.thebartramclub.com
SUMMARY:Gentle Yoga Flow
DESCRIPTION:
URL:https://www.thebartramclub.com/event/gentle-yoga-flow/2030-04-17/
END:VEVENT
BEGIN:VEVENT
DTSTART;TZID=America/New_York:20300423T180000
DTEND;TZID=America/New_York:20300423T190000
DTSTAMP:20260421T164527
CREATED:20260324T220531Z
LAST-MODIFIED:20260324T220531Z
UID:10003858-1903197600-1903201200@www.thebartramclub.com
SUMMARY:Zumba
DESCRIPTION:Flex Room
URL:https://www.thebartramclub.com/event/zumba-4/2030-04-23/
END:VEVENT
BEGIN:VEVENT
DTSTART;TZID=America/New_York:20300424T171500
DTEND;TZID=America/New_York:20300424T181500
DTSTAMP:20260421T164527
CREATED:20260227T193933Z
LAST-MODIFIED:20260303T221051Z
UID:10003589-1903281300-1903284900@www.thebartramclub.com
SUMMARY:Gentle Yoga Flow
DESCRIPTION:
URL:https://www.thebartramclub.com/event/gentle-yoga-flow/2030-04-24/
END:VEVENT
BEGIN:VEVENT
DTSTART;TZID=America/New_York:20300430T180000
DTEND;TZID=America/New_York:20300430T190000
DTSTAMP:20260421T164527
CREATED:20260324T220531Z
LAST-MODIFIED:20260324T220531Z
UID:10003859-1903802400-1903806000@www.thebartramclub.com
SUMMARY:Zumba
DESCRIPTION:Flex Room
URL:https://www.thebartramclub.com/event/zumba-4/2030-04-30/
END:VEVENT
BEGIN:VEVENT
DTSTART;TZID=America/New_York:20300501T171500
DTEND;TZID=America/New_York:20300501T181500
DTSTAMP:20260421T164527
CREATED:20260227T193933Z
LAST-MODIFIED:20260303T221051Z
UID:10003590-1903886100-1903889700@www.thebartramclub.com
SUMMARY:Gentle Yoga Flow
DESCRIPTION:
URL:https://www.thebartramclub.com/event/gentle-yoga-flow/2030-05-01/
END:VEVENT
BEGIN:VEVENT
DTSTART;TZID=America/New_York:20300507T180000
DTEND;TZID=America/New_York:20300507T190000
DTSTAMP:20260421T164527
CREATED:20260324T220531Z
LAST-MODIFIED:20260324T220531Z
UID:10003860-1904407200-1904410800@www.thebartramclub.com
SUMMARY:Zumba
DESCRIPTION:Flex Room
URL:https://www.thebartramclub.com/event/zumba-4/2030-05-07/
END:VEVENT
BEGIN:VEVENT
DTSTART;TZID=America/New_York:20300508T171500
DTEND;TZID=America/New_York:20300508T181500
DTSTAMP:20260421T164527
CREATED:20260227T193933Z
LAST-MODIFIED:20260303T221051Z
UID:10003591-1904490900-1904494500@www.thebartramclub.com
SUMMARY:Gentle Yoga Flow
DESCRIPTION:
URL:https://www.thebartramclub.com/event/gentle-yoga-flow/2030-05-08/
END:VEVENT
BEGIN:VEVENT
DTSTART;TZID=America/New_York:20300514T180000
DTEND;TZID=America/New_York:20300514T190000
DTSTAMP:20260421T164527
CREATED:20260324T220531Z
LAST-MODIFIED:20260324T220531Z
UID:10003861-1905012000-1905015600@www.thebartramclub.com
SUMMARY:Zumba
DESCRIPTION:Flex Room
URL:https://www.thebartramclub.com/event/zumba-4/2030-05-14/
END:VEVENT
BEGIN:VEVENT
DTSTART;TZID=America/New_York:20300515T171500
DTEND;TZID=America/New_York:20300515T181500
DTSTAMP:20260421T164527
CREATED:20260227T193933Z
LAST-MODIFIED:20260303T221051Z
UID:10003592-1905095700-1905099300@www.thebartramclub.com
SUMMARY:Gentle Yoga Flow
DESCRIPTION:
URL:https://www.thebartramclub.com/event/gentle-yoga-flow/2030-05-15/
END:VEVENT
BEGIN:VEVENT
DTSTART;TZID=America/New_York:20300521T180000
DTEND;TZID=America/New_York:20300521T190000
DTSTAMP:20260421T164527
CREATED:20260324T220531Z
LAST-MODIFIED:20260324T220531Z
UID:10003862-1905616800-1905620400@www.thebartramclub.com
SUMMARY:Zumba
DESCRIPTION:Flex Room
URL:https://www.thebartramclub.com/event/zumba-4/2030-05-21/
END:VEVENT
BEGIN:VEVENT
DTSTART;TZID=America/New_York:20300522T171500
DTEND;TZID=America/New_York:20300522T181500
DTSTAMP:20260421T164527
CREATED:20260227T193933Z
LAST-MODIFIED:20260303T221051Z
UID:10003593-1905700500-1905704100@www.thebartramclub.com
SUMMARY:Gentle Yoga Flow
DESCRIPTION:
URL:https://www.thebartramclub.com/event/gentle-yoga-flow/2030-05-22/
END:VEVENT
BEGIN:VEVENT
DTSTART;TZID=America/New_York:20300528T180000
DTEND;TZID=America/New_York:20300528T190000
DTSTAMP:20260421T164527
CREATED:20260324T220531Z
LAST-MODIFIED:20260324T220531Z
UID:10003863-1906221600-1906225200@www.thebartramclub.com
SUMMARY:Zumba
DESCRIPTION:Flex Room
URL:https://www.thebartramclub.com/event/zumba-4/2030-05-28/
END:VEVENT
BEGIN:VEVENT
DTSTART;TZID=America/New_York:20300529T171500
DTEND;TZID=America/New_York:20300529T181500
DTSTAMP:20260421T164527
CREATED:20260227T193933Z
LAST-MODIFIED:20260303T221051Z
UID:10003594-1906305300-1906308900@www.thebartramclub.com
SUMMARY:Gentle Yoga Flow
DESCRIPTION:
URL:https://www.thebartramclub.com/event/gentle-yoga-flow/2030-05-29/
END:VEVENT
BEGIN:VEVENT
DTSTART;TZID=America/New_York:20300604T180000
DTEND;TZID=America/New_York:20300604T190000
DTSTAMP:20260421T164527
CREATED:20260324T220531Z
LAST-MODIFIED:20260324T220531Z
UID:10003864-1906826400-1906830000@www.thebartramclub.com
SUMMARY:Zumba
DESCRIPTION:Flex Room
URL:https://www.thebartramclub.com/event/zumba-4/2030-06-04/
END:VEVENT
BEGIN:VEVENT
DTSTART;TZID=America/New_York:20300605T171500
DTEND;TZID=America/New_York:20300605T181500
DTSTAMP:20260421T164527
CREATED:20260227T193933Z
LAST-MODIFIED:20260303T221051Z
UID:10003595-1906910100-1906913700@www.thebartramclub.com
SUMMARY:Gentle Yoga Flow
DESCRIPTION:
URL:https://www.thebartramclub.com/event/gentle-yoga-flow/2030-06-05/
END:VEVENT
BEGIN:VEVENT
DTSTART;TZID=America/New_York:20300611T180000
DTEND;TZID=America/New_York:20300611T190000
DTSTAMP:20260421T164527
CREATED:20260324T220531Z
LAST-MODIFIED:20260324T220531Z
UID:10003865-1907431200-1907434800@www.thebartramclub.com
SUMMARY:Zumba
DESCRIPTION:Flex Room
URL:https://www.thebartramclub.com/event/zumba-4/2030-06-11/
END:VEVENT
BEGIN:VEVENT
DTSTART;TZID=America/New_York:20300612T171500
DTEND;TZID=America/New_York:20300612T181500
DTSTAMP:20260421T164527
CREATED:20260227T193933Z
LAST-MODIFIED:20260303T221051Z
UID:10003596-1907514900-1907518500@www.thebartramclub.com
SUMMARY:Gentle Yoga Flow
DESCRIPTION:
URL:https://www.thebartramclub.com/event/gentle-yoga-flow/2030-06-12/
END:VEVENT
BEGIN:VEVENT
DTSTART;TZID=America/New_York:20300618T180000
DTEND;TZID=America/New_York:20300618T190000
DTSTAMP:20260421T164527
CREATED:20260324T220531Z
LAST-MODIFIED:20260324T220531Z
UID:10003866-1908036000-1908039600@www.thebartramclub.com
SUMMARY:Zumba
DESCRIPTION:Flex Room
URL:https://www.thebartramclub.com/event/zumba-4/2030-06-18/
END:VEVENT
BEGIN:VEVENT
DTSTART;TZID=America/New_York:20300619T171500
DTEND;TZID=America/New_York:20300619T181500
DTSTAMP:20260421T164527
CREATED:20260227T193933Z
LAST-MODIFIED:20260303T221051Z
UID:10003597-1908119700-1908123300@www.thebartramclub.com
SUMMARY:Gentle Yoga Flow
DESCRIPTION:
URL:https://www.thebartramclub.com/event/gentle-yoga-flow/2030-06-19/
END:VEVENT
BEGIN:VEVENT
DTSTART;TZID=America/New_York:20300625T180000
DTEND;TZID=America/New_York:20300625T190000
DTSTAMP:20260421T164527
CREATED:20260324T220531Z
LAST-MODIFIED:20260324T220531Z
UID:10003867-1908640800-1908644400@www.thebartramclub.com
SUMMARY:Zumba
DESCRIPTION:Flex Room
URL:https://www.thebartramclub.com/event/zumba-4/2030-06-25/
END:VEVENT
BEGIN:VEVENT
DTSTART;TZID=America/New_York:20300626T171500
DTEND;TZID=America/New_York:20300626T181500
DTSTAMP:20260421T164527
CREATED:20260227T193933Z
LAST-MODIFIED:20260303T221051Z
UID:10003598-1908724500-1908728100@www.thebartramclub.com
SUMMARY:Gentle Yoga Flow
DESCRIPTION:
URL:https://www.thebartramclub.com/event/gentle-yoga-flow/2030-06-26/
END:VEVENT
BEGIN:VEVENT
DTSTART;TZID=America/New_York:20300702T180000
DTEND;TZID=America/New_York:20300702T190000
DTSTAMP:20260421T164527
CREATED:20260324T220531Z
LAST-MODIFIED:20260324T220531Z
UID:10003868-1909245600-1909249200@www.thebartramclub.com
SUMMARY:Zumba
DESCRIPTION:Flex Room
URL:https://www.thebartramclub.com/event/zumba-4/2030-07-02/
END:VEVENT
BEGIN:VEVENT
DTSTART;TZID=America/New_York:20300703T171500
DTEND;TZID=America/New_York:20300703T181500
DTSTAMP:20260421T164527
CREATED:20260227T193933Z
LAST-MODIFIED:20260303T221051Z
UID:10003599-1909329300-1909332900@www.thebartramclub.com
SUMMARY:Gentle Yoga Flow
DESCRIPTION:
URL:https://www.thebartramclub.com/event/gentle-yoga-flow/2030-07-03/
END:VEVENT
BEGIN:VEVENT
DTSTART;TZID=America/New_York:20300709T180000
DTEND;TZID=America/New_York:20300709T190000
DTSTAMP:20260421T164527
CREATED:20260324T220531Z
LAST-MODIFIED:20260324T220531Z
UID:10003869-1909850400-1909854000@www.thebartramclub.com
SUMMARY:Zumba
DESCRIPTION:Flex Room
URL:https://www.thebartramclub.com/event/zumba-4/2030-07-09/
END:VEVENT
BEGIN:VEVENT
DTSTART;TZID=America/New_York:20300710T171500
DTEND;TZID=America/New_York:20300710T181500
DTSTAMP:20260421T164527
CREATED:20260227T193933Z
LAST-MODIFIED:20260303T221051Z
UID:10003600-1909934100-1909937700@www.thebartramclub.com
SUMMARY:Gentle Yoga Flow
DESCRIPTION:
URL:https://www.thebartramclub.com/event/gentle-yoga-flow/2030-07-10/
END:VEVENT
BEGIN:VEVENT
DTSTART;TZID=America/New_York:20300716T180000
DTEND;TZID=America/New_York:20300716T190000
DTSTAMP:20260421T164527
CREATED:20260324T220531Z
LAST-MODIFIED:20260324T220531Z
UID:10003870-1910455200-1910458800@www.thebartramclub.com
SUMMARY:Zumba
DESCRIPTION:Flex Room
URL:https://www.thebartramclub.com/event/zumba-4/2030-07-16/
END:VEVENT
BEGIN:VEVENT
DTSTART;TZID=America/New_York:20300717T171500
DTEND;TZID=America/New_York:20300717T181500
DTSTAMP:20260421T164527
CREATED:20260227T193933Z
LAST-MODIFIED:20260303T221051Z
UID:10003601-1910538900-1910542500@www.thebartramclub.com
SUMMARY:Gentle Yoga Flow
DESCRIPTION:
URL:https://www.thebartramclub.com/event/gentle-yoga-flow/2030-07-17/
END:VEVENT
BEGIN:VEVENT
DTSTART;TZID=America/New_York:20300723T180000
DTEND;TZID=America/New_York:20300723T190000
DTSTAMP:20260421T164527
CREATED:20260324T220531Z
LAST-MODIFIED:20260324T220531Z
UID:10003871-1911060000-1911063600@www.thebartramclub.com
SUMMARY:Zumba
DESCRIPTION:Flex Room
URL:https://www.thebartramclub.com/event/zumba-4/2030-07-23/
END:VEVENT
BEGIN:VEVENT
DTSTART;TZID=America/New_York:20300724T171500
DTEND;TZID=America/New_York:20300724T181500
DTSTAMP:20260421T164527
CREATED:20260227T193933Z
LAST-MODIFIED:20260303T221051Z
UID:10003602-1911143700-1911147300@www.thebartramclub.com
SUMMARY:Gentle Yoga Flow
DESCRIPTION:
URL:https://www.thebartramclub.com/event/gentle-yoga-flow/2030-07-24/
END:VEVENT
BEGIN:VEVENT
DTSTART;TZID=America/New_York:20300730T180000
DTEND;TZID=America/New_York:20300730T190000
DTSTAMP:20260421T164527
CREATED:20260324T220531Z
LAST-MODIFIED:20260324T220531Z
UID:10003872-1911664800-1911668400@www.thebartramclub.com
SUMMARY:Zumba
DESCRIPTION:Flex Room
URL:https://www.thebartramclub.com/event/zumba-4/2030-07-30/
END:VEVENT
END:VCALENDAR