BEGIN:VCALENDAR
VERSION:2.0
PRODID:-//The Bartram Club - ECPv6.15.20//NONSGML v1.0//EN
CALSCALE:GREGORIAN
METHOD:PUBLISH
X-WR-CALNAME:The Bartram Club
X-ORIGINAL-URL:https://www.thebartramclub.com
X-WR-CALDESC:Events for The Bartram Club
REFRESH-INTERVAL;VALUE=DURATION:PT1H
X-Robots-Tag:noindex
X-PUBLISHED-TTL:PT1H
BEGIN:VTIMEZONE
TZID:America/New_York
BEGIN:DAYLIGHT
TZOFFSETFROM:-0500
TZOFFSETTO:-0400
TZNAME:EDT
DTSTART:20280312T070000
END:DAYLIGHT
BEGIN:STANDARD
TZOFFSETFROM:-0400
TZOFFSETTO:-0500
TZNAME:EST
DTSTART:20281105T060000
END:STANDARD
BEGIN:DAYLIGHT
TZOFFSETFROM:-0500
TZOFFSETTO:-0400
TZNAME:EDT
DTSTART:20290311T070000
END:DAYLIGHT
BEGIN:STANDARD
TZOFFSETFROM:-0400
TZOFFSETTO:-0500
TZNAME:EST
DTSTART:20291104T060000
END:STANDARD
BEGIN:DAYLIGHT
TZOFFSETFROM:-0500
TZOFFSETTO:-0400
TZNAME:EDT
DTSTART:20300310T070000
END:DAYLIGHT
BEGIN:STANDARD
TZOFFSETFROM:-0400
TZOFFSETTO:-0500
TZNAME:EST
DTSTART:20301103T060000
END:STANDARD
END:VTIMEZONE
BEGIN:VEVENT
DTSTART;TZID=America/New_York:20290808T171500
DTEND;TZID=America/New_York:20290808T181500
DTSTAMP:20260421T051811
CREATED:20260227T193933Z
LAST-MODIFIED:20260303T221051Z
UID:10003552-1880903700-1880907300@www.thebartramclub.com
SUMMARY:Gentle Yoga Flow
DESCRIPTION:
URL:https://www.thebartramclub.com/event/gentle-yoga-flow/2029-08-08/
END:VEVENT
BEGIN:VEVENT
DTSTART;TZID=America/New_York:20290814T180000
DTEND;TZID=America/New_York:20290814T190000
DTSTAMP:20260421T051811
CREATED:20260324T220531Z
LAST-MODIFIED:20260324T220531Z
UID:10003822-1881424800-1881428400@www.thebartramclub.com
SUMMARY:Zumba
DESCRIPTION:Flex Room
URL:https://www.thebartramclub.com/event/zumba-4/2029-08-14/
END:VEVENT
BEGIN:VEVENT
DTSTART;TZID=America/New_York:20290815T171500
DTEND;TZID=America/New_York:20290815T181500
DTSTAMP:20260421T051811
CREATED:20260227T193933Z
LAST-MODIFIED:20260303T221051Z
UID:10003553-1881508500-1881512100@www.thebartramclub.com
SUMMARY:Gentle Yoga Flow
DESCRIPTION:
URL:https://www.thebartramclub.com/event/gentle-yoga-flow/2029-08-15/
END:VEVENT
BEGIN:VEVENT
DTSTART;TZID=America/New_York:20290821T180000
DTEND;TZID=America/New_York:20290821T190000
DTSTAMP:20260421T051811
CREATED:20260324T220531Z
LAST-MODIFIED:20260324T220531Z
UID:10003823-1882029600-1882033200@www.thebartramclub.com
SUMMARY:Zumba
DESCRIPTION:Flex Room
URL:https://www.thebartramclub.com/event/zumba-4/2029-08-21/
END:VEVENT
BEGIN:VEVENT
DTSTART;TZID=America/New_York:20290822T171500
DTEND;TZID=America/New_York:20290822T181500
DTSTAMP:20260421T051811
CREATED:20260227T193933Z
LAST-MODIFIED:20260303T221051Z
UID:10003554-1882113300-1882116900@www.thebartramclub.com
SUMMARY:Gentle Yoga Flow
DESCRIPTION:
URL:https://www.thebartramclub.com/event/gentle-yoga-flow/2029-08-22/
END:VEVENT
BEGIN:VEVENT
DTSTART;TZID=America/New_York:20290828T180000
DTEND;TZID=America/New_York:20290828T190000
DTSTAMP:20260421T051811
CREATED:20260324T220531Z
LAST-MODIFIED:20260324T220531Z
UID:10003824-1882634400-1882638000@www.thebartramclub.com
SUMMARY:Zumba
DESCRIPTION:Flex Room
URL:https://www.thebartramclub.com/event/zumba-4/2029-08-28/
END:VEVENT
BEGIN:VEVENT
DTSTART;TZID=America/New_York:20290829T171500
DTEND;TZID=America/New_York:20290829T181500
DTSTAMP:20260421T051811
CREATED:20260227T193933Z
LAST-MODIFIED:20260303T221051Z
UID:10003555-1882718100-1882721700@www.thebartramclub.com
SUMMARY:Gentle Yoga Flow
DESCRIPTION:
URL:https://www.thebartramclub.com/event/gentle-yoga-flow/2029-08-29/
END:VEVENT
BEGIN:VEVENT
DTSTART;TZID=America/New_York:20290904T180000
DTEND;TZID=America/New_York:20290904T190000
DTSTAMP:20260421T051811
CREATED:20260324T220531Z
LAST-MODIFIED:20260324T220531Z
UID:10003825-1883239200-1883242800@www.thebartramclub.com
SUMMARY:Zumba
DESCRIPTION:Flex Room
URL:https://www.thebartramclub.com/event/zumba-4/2029-09-04/
END:VEVENT
BEGIN:VEVENT
DTSTART;TZID=America/New_York:20290905T171500
DTEND;TZID=America/New_York:20290905T181500
DTSTAMP:20260421T051811
CREATED:20260227T193933Z
LAST-MODIFIED:20260303T221051Z
UID:10003556-1883322900-1883326500@www.thebartramclub.com
SUMMARY:Gentle Yoga Flow
DESCRIPTION:
URL:https://www.thebartramclub.com/event/gentle-yoga-flow/2029-09-05/
END:VEVENT
BEGIN:VEVENT
DTSTART;TZID=America/New_York:20290911T180000
DTEND;TZID=America/New_York:20290911T190000
DTSTAMP:20260421T051811
CREATED:20260324T220531Z
LAST-MODIFIED:20260324T220531Z
UID:10003826-1883844000-1883847600@www.thebartramclub.com
SUMMARY:Zumba
DESCRIPTION:Flex Room
URL:https://www.thebartramclub.com/event/zumba-4/2029-09-11/
END:VEVENT
BEGIN:VEVENT
DTSTART;TZID=America/New_York:20290912T171500
DTEND;TZID=America/New_York:20290912T181500
DTSTAMP:20260421T051811
CREATED:20260227T193933Z
LAST-MODIFIED:20260303T221051Z
UID:10003557-1883927700-1883931300@www.thebartramclub.com
SUMMARY:Gentle Yoga Flow
DESCRIPTION:
URL:https://www.thebartramclub.com/event/gentle-yoga-flow/2029-09-12/
END:VEVENT
BEGIN:VEVENT
DTSTART;TZID=America/New_York:20290918T180000
DTEND;TZID=America/New_York:20290918T190000
DTSTAMP:20260421T051811
CREATED:20260324T220531Z
LAST-MODIFIED:20260324T220531Z
UID:10003827-1884448800-1884452400@www.thebartramclub.com
SUMMARY:Zumba
DESCRIPTION:Flex Room
URL:https://www.thebartramclub.com/event/zumba-4/2029-09-18/
END:VEVENT
BEGIN:VEVENT
DTSTART;TZID=America/New_York:20290919T171500
DTEND;TZID=America/New_York:20290919T181500
DTSTAMP:20260421T051811
CREATED:20260227T193933Z
LAST-MODIFIED:20260303T221051Z
UID:10003558-1884532500-1884536100@www.thebartramclub.com
SUMMARY:Gentle Yoga Flow
DESCRIPTION:
URL:https://www.thebartramclub.com/event/gentle-yoga-flow/2029-09-19/
END:VEVENT
BEGIN:VEVENT
DTSTART;TZID=America/New_York:20290925T180000
DTEND;TZID=America/New_York:20290925T190000
DTSTAMP:20260421T051811
CREATED:20260324T220531Z
LAST-MODIFIED:20260324T220531Z
UID:10003828-1885053600-1885057200@www.thebartramclub.com
SUMMARY:Zumba
DESCRIPTION:Flex Room
URL:https://www.thebartramclub.com/event/zumba-4/2029-09-25/
END:VEVENT
BEGIN:VEVENT
DTSTART;TZID=America/New_York:20290926T171500
DTEND;TZID=America/New_York:20290926T181500
DTSTAMP:20260421T051811
CREATED:20260227T193933Z
LAST-MODIFIED:20260303T221051Z
UID:10003559-1885137300-1885140900@www.thebartramclub.com
SUMMARY:Gentle Yoga Flow
DESCRIPTION:
URL:https://www.thebartramclub.com/event/gentle-yoga-flow/2029-09-26/
END:VEVENT
BEGIN:VEVENT
DTSTART;TZID=America/New_York:20291002T180000
DTEND;TZID=America/New_York:20291002T190000
DTSTAMP:20260421T051811
CREATED:20260324T220531Z
LAST-MODIFIED:20260324T220531Z
UID:10003829-1885658400-1885662000@www.thebartramclub.com
SUMMARY:Zumba
DESCRIPTION:Flex Room
URL:https://www.thebartramclub.com/event/zumba-4/2029-10-02/
END:VEVENT
BEGIN:VEVENT
DTSTART;TZID=America/New_York:20291003T171500
DTEND;TZID=America/New_York:20291003T181500
DTSTAMP:20260421T051811
CREATED:20260227T193933Z
LAST-MODIFIED:20260303T221051Z
UID:10003560-1885742100-1885745700@www.thebartramclub.com
SUMMARY:Gentle Yoga Flow
DESCRIPTION:
URL:https://www.thebartramclub.com/event/gentle-yoga-flow/2029-10-03/
END:VEVENT
BEGIN:VEVENT
DTSTART;TZID=America/New_York:20291009T180000
DTEND;TZID=America/New_York:20291009T190000
DTSTAMP:20260421T051811
CREATED:20260324T220531Z
LAST-MODIFIED:20260324T220531Z
UID:10003830-1886263200-1886266800@www.thebartramclub.com
SUMMARY:Zumba
DESCRIPTION:Flex Room
URL:https://www.thebartramclub.com/event/zumba-4/2029-10-09/
END:VEVENT
BEGIN:VEVENT
DTSTART;TZID=America/New_York:20291010T171500
DTEND;TZID=America/New_York:20291010T181500
DTSTAMP:20260421T051811
CREATED:20260227T193933Z
LAST-MODIFIED:20260303T221051Z
UID:10003561-1886346900-1886350500@www.thebartramclub.com
SUMMARY:Gentle Yoga Flow
DESCRIPTION:
URL:https://www.thebartramclub.com/event/gentle-yoga-flow/2029-10-10/
END:VEVENT
BEGIN:VEVENT
DTSTART;TZID=America/New_York:20291016T180000
DTEND;TZID=America/New_York:20291016T190000
DTSTAMP:20260421T051811
CREATED:20260324T220531Z
LAST-MODIFIED:20260324T220531Z
UID:10003831-1886868000-1886871600@www.thebartramclub.com
SUMMARY:Zumba
DESCRIPTION:Flex Room
URL:https://www.thebartramclub.com/event/zumba-4/2029-10-16/
END:VEVENT
BEGIN:VEVENT
DTSTART;TZID=America/New_York:20291017T171500
DTEND;TZID=America/New_York:20291017T181500
DTSTAMP:20260421T051811
CREATED:20260227T193933Z
LAST-MODIFIED:20260303T221051Z
UID:10003562-1886951700-1886955300@www.thebartramclub.com
SUMMARY:Gentle Yoga Flow
DESCRIPTION:
URL:https://www.thebartramclub.com/event/gentle-yoga-flow/2029-10-17/
END:VEVENT
BEGIN:VEVENT
DTSTART;TZID=America/New_York:20291023T180000
DTEND;TZID=America/New_York:20291023T190000
DTSTAMP:20260421T051811
CREATED:20260324T220531Z
LAST-MODIFIED:20260324T220531Z
UID:10003832-1887472800-1887476400@www.thebartramclub.com
SUMMARY:Zumba
DESCRIPTION:Flex Room
URL:https://www.thebartramclub.com/event/zumba-4/2029-10-23/
END:VEVENT
BEGIN:VEVENT
DTSTART;TZID=America/New_York:20291024T171500
DTEND;TZID=America/New_York:20291024T181500
DTSTAMP:20260421T051811
CREATED:20260227T193933Z
LAST-MODIFIED:20260303T221051Z
UID:10003563-1887556500-1887560100@www.thebartramclub.com
SUMMARY:Gentle Yoga Flow
DESCRIPTION:
URL:https://www.thebartramclub.com/event/gentle-yoga-flow/2029-10-24/
END:VEVENT
BEGIN:VEVENT
DTSTART;TZID=America/New_York:20291030T180000
DTEND;TZID=America/New_York:20291030T190000
DTSTAMP:20260421T051811
CREATED:20260324T220531Z
LAST-MODIFIED:20260324T220531Z
UID:10003833-1888077600-1888081200@www.thebartramclub.com
SUMMARY:Zumba
DESCRIPTION:Flex Room
URL:https://www.thebartramclub.com/event/zumba-4/2029-10-30/
END:VEVENT
BEGIN:VEVENT
DTSTART;TZID=America/New_York:20291031T171500
DTEND;TZID=America/New_York:20291031T181500
DTSTAMP:20260421T051811
CREATED:20260227T193933Z
LAST-MODIFIED:20260303T221051Z
UID:10003564-1888161300-1888164900@www.thebartramclub.com
SUMMARY:Gentle Yoga Flow
DESCRIPTION:
URL:https://www.thebartramclub.com/event/gentle-yoga-flow/2029-10-31/
END:VEVENT
BEGIN:VEVENT
DTSTART;TZID=America/New_York:20291106T180000
DTEND;TZID=America/New_York:20291106T190000
DTSTAMP:20260421T051811
CREATED:20260324T220531Z
LAST-MODIFIED:20260324T220531Z
UID:10003834-1888682400-1888686000@www.thebartramclub.com
SUMMARY:Zumba
DESCRIPTION:Flex Room
URL:https://www.thebartramclub.com/event/zumba-4/2029-11-06/
END:VEVENT
BEGIN:VEVENT
DTSTART;TZID=America/New_York:20291107T171500
DTEND;TZID=America/New_York:20291107T181500
DTSTAMP:20260421T051811
CREATED:20260227T193933Z
LAST-MODIFIED:20260303T221051Z
UID:10003565-1888766100-1888769700@www.thebartramclub.com
SUMMARY:Gentle Yoga Flow
DESCRIPTION:
URL:https://www.thebartramclub.com/event/gentle-yoga-flow/2029-11-07/
END:VEVENT
BEGIN:VEVENT
DTSTART;TZID=America/New_York:20291113T180000
DTEND;TZID=America/New_York:20291113T190000
DTSTAMP:20260421T051811
CREATED:20260324T220531Z
LAST-MODIFIED:20260324T220531Z
UID:10003835-1889287200-1889290800@www.thebartramclub.com
SUMMARY:Zumba
DESCRIPTION:Flex Room
URL:https://www.thebartramclub.com/event/zumba-4/2029-11-13/
END:VEVENT
BEGIN:VEVENT
DTSTART;TZID=America/New_York:20291114T171500
DTEND;TZID=America/New_York:20291114T181500
DTSTAMP:20260421T051811
CREATED:20260227T193933Z
LAST-MODIFIED:20260303T221051Z
UID:10003566-1889370900-1889374500@www.thebartramclub.com
SUMMARY:Gentle Yoga Flow
DESCRIPTION:
URL:https://www.thebartramclub.com/event/gentle-yoga-flow/2029-11-14/
END:VEVENT
BEGIN:VEVENT
DTSTART;TZID=America/New_York:20291120T180000
DTEND;TZID=America/New_York:20291120T190000
DTSTAMP:20260421T051811
CREATED:20260324T220531Z
LAST-MODIFIED:20260324T220531Z
UID:10003836-1889892000-1889895600@www.thebartramclub.com
SUMMARY:Zumba
DESCRIPTION:Flex Room
URL:https://www.thebartramclub.com/event/zumba-4/2029-11-20/
END:VEVENT
END:VCALENDAR