BEGIN:VCALENDAR
VERSION:2.0
PRODID:-//The Bartram Club - ECPv6.15.20//NONSGML v1.0//EN
CALSCALE:GREGORIAN
METHOD:PUBLISH
X-WR-CALNAME:The Bartram Club
X-ORIGINAL-URL:https://www.thebartramclub.com
X-WR-CALDESC:Events for The Bartram Club
REFRESH-INTERVAL;VALUE=DURATION:PT1H
X-Robots-Tag:noindex
X-PUBLISHED-TTL:PT1H
BEGIN:VTIMEZONE
TZID:America/New_York
BEGIN:DAYLIGHT
TZOFFSETFROM:-0500
TZOFFSETTO:-0400
TZNAME:EDT
DTSTART:20250309T070000
END:DAYLIGHT
BEGIN:STANDARD
TZOFFSETFROM:-0400
TZOFFSETTO:-0500
TZNAME:EST
DTSTART:20251102T060000
END:STANDARD
BEGIN:DAYLIGHT
TZOFFSETFROM:-0500
TZOFFSETTO:-0400
TZNAME:EDT
DTSTART:20260308T070000
END:DAYLIGHT
BEGIN:STANDARD
TZOFFSETFROM:-0400
TZOFFSETTO:-0500
TZNAME:EST
DTSTART:20261101T060000
END:STANDARD
BEGIN:DAYLIGHT
TZOFFSETFROM:-0500
TZOFFSETTO:-0400
TZNAME:EDT
DTSTART:20270314T070000
END:DAYLIGHT
BEGIN:STANDARD
TZOFFSETFROM:-0400
TZOFFSETTO:-0500
TZNAME:EST
DTSTART:20271107T060000
END:STANDARD
END:VTIMEZONE
BEGIN:VEVENT
DTSTART;TZID=America/New_York:20261120T170000
DTEND;TZID=America/New_York:20261120T200000
DTSTAMP:20260425T120417
CREATED:20240424T161752Z
LAST-MODIFIED:20240424T161752Z
UID:10000396-1795194000-1795204800@www.thebartramclub.com
SUMMARY:Food Truck Friday
DESCRIPTION:Join us on Fridays for a mouthwatering extravaganza at Food Truck Friday! Savor delectable bites from a variety of gourmet food trucks and indulge in a culinary adventure like no other!
URL:https://www.thebartramclub.com/event/food-truck-friday/2026-11-20/
LOCATION:Bartram Clubhouse\, 14530 E Cherry Lake Dr\, Jacksonville\, FL\, 32258\, United States
CATEGORIES:Food Trucks
ATTACH;FMTTYPE=image/jpeg:https://www.thebartramclub.com/wp-content/uploads/2024/04/food-truck-friday.jpg
END:VEVENT
BEGIN:VEVENT
DTSTART;TZID=America/New_York:20261124T180000
DTEND;TZID=America/New_York:20261124T190000
DTSTAMP:20260425T120417
CREATED:20260324T220531Z
LAST-MODIFIED:20260324T220531Z
UID:10003680-1795543200-1795546800@www.thebartramclub.com
SUMMARY:Zumba
DESCRIPTION:Flex Room
URL:https://www.thebartramclub.com/event/zumba-4/2026-11-24/
END:VEVENT
BEGIN:VEVENT
DTSTART;TZID=America/New_York:20261125T171500
DTEND;TZID=America/New_York:20261125T181500
DTSTAMP:20260425T120417
CREATED:20260227T193933Z
LAST-MODIFIED:20260303T221051Z
UID:10003411-1795626900-1795630500@www.thebartramclub.com
SUMMARY:Gentle Yoga Flow
DESCRIPTION:
URL:https://www.thebartramclub.com/event/gentle-yoga-flow/2026-11-25/
END:VEVENT
BEGIN:VEVENT
DTSTART;TZID=America/New_York:20261127T170000
DTEND;TZID=America/New_York:20261127T200000
DTSTAMP:20260425T120417
CREATED:20240424T161752Z
LAST-MODIFIED:20240424T161752Z
UID:10000397-1795798800-1795809600@www.thebartramclub.com
SUMMARY:Food Truck Friday
DESCRIPTION:Join us on Fridays for a mouthwatering extravaganza at Food Truck Friday! Savor delectable bites from a variety of gourmet food trucks and indulge in a culinary adventure like no other!
URL:https://www.thebartramclub.com/event/food-truck-friday/2026-11-27/
LOCATION:Bartram Clubhouse\, 14530 E Cherry Lake Dr\, Jacksonville\, FL\, 32258\, United States
CATEGORIES:Food Trucks
ATTACH;FMTTYPE=image/jpeg:https://www.thebartramclub.com/wp-content/uploads/2024/04/food-truck-friday.jpg
END:VEVENT
END:VCALENDAR