BEGIN:VCALENDAR
VERSION:2.0
PRODID:-//The Bartram Club - ECPv6.15.20//NONSGML v1.0//EN
CALSCALE:GREGORIAN
METHOD:PUBLISH
X-WR-CALNAME:The Bartram Club
X-ORIGINAL-URL:https://www.thebartramclub.com
X-WR-CALDESC:Events for The Bartram Club
REFRESH-INTERVAL;VALUE=DURATION:PT1H
X-Robots-Tag:noindex
X-PUBLISHED-TTL:PT1H
BEGIN:VTIMEZONE
TZID:America/New_York
BEGIN:DAYLIGHT
TZOFFSETFROM:-0500
TZOFFSETTO:-0400
TZNAME:EDT
DTSTART:20250309T070000
END:DAYLIGHT
BEGIN:STANDARD
TZOFFSETFROM:-0400
TZOFFSETTO:-0500
TZNAME:EST
DTSTART:20251102T060000
END:STANDARD
BEGIN:DAYLIGHT
TZOFFSETFROM:-0500
TZOFFSETTO:-0400
TZNAME:EDT
DTSTART:20260308T070000
END:DAYLIGHT
BEGIN:STANDARD
TZOFFSETFROM:-0400
TZOFFSETTO:-0500
TZNAME:EST
DTSTART:20261101T060000
END:STANDARD
BEGIN:DAYLIGHT
TZOFFSETFROM:-0500
TZOFFSETTO:-0400
TZNAME:EDT
DTSTART:20270314T070000
END:DAYLIGHT
BEGIN:STANDARD
TZOFFSETFROM:-0400
TZOFFSETTO:-0500
TZNAME:EST
DTSTART:20271107T060000
END:STANDARD
END:VTIMEZONE
BEGIN:VEVENT
DTSTART;TZID=America/New_York:20260124T170000
DTEND;TZID=America/New_York:20260124T210000
DTSTAMP:20260424T055314
CREATED:20260102T175601Z
LAST-MODIFIED:20260102T175601Z
UID:10003043-1769274000-1769288400@www.thebartramclub.com
SUMMARY:Kids Night Out
DESCRIPTION:Amenity Center
URL:https://www.thebartramclub.com/event/kids-night-out-7/
END:VEVENT
BEGIN:VEVENT
DTSTART;TZID=America/New_York:20260127T190000
DTEND;TZID=America/New_York:20260127T200000
DTSTAMP:20260424T055314
CREATED:20260102T175821Z
LAST-MODIFIED:20260102T175821Z
UID:10003044-1769540400-1769544000@www.thebartramclub.com
SUMMARY:Trinity HOA
DESCRIPTION:Board Meeting Social Hall
URL:https://www.thebartramclub.com/event/trinity-hoa/
END:VEVENT
BEGIN:VEVENT
DTSTART;TZID=America/New_York:20260129T183000
DTEND;TZID=America/New_York:20260129T203000
DTSTAMP:20260424T055314
CREATED:20260109T195511Z
LAST-MODIFIED:20260109T195511Z
UID:10003051-1769711400-1769718600@www.thebartramclub.com
SUMMARY:Bunco Night
DESCRIPTION:Amenity Center
URL:https://www.thebartramclub.com/event/bunco-night/
END:VEVENT
BEGIN:VEVENT
DTSTART;TZID=America/New_York:20260130T170000
DTEND;TZID=America/New_York:20260130T200000
DTSTAMP:20260424T055314
CREATED:20260102T203128Z
LAST-MODIFIED:20260102T203128Z
UID:10003050-1769792400-1769803200@www.thebartramclub.com
SUMMARY:Food Truck Friday
DESCRIPTION:Amenity Center
URL:https://www.thebartramclub.com/event/food-truck-friday-31/
END:VEVENT
BEGIN:VEVENT
DTSTART;TZID=America/New_York:20260130T170000
DTEND;TZID=America/New_York:20260130T200000
DTSTAMP:20260424T055314
CREATED:20240424T161752Z
LAST-MODIFIED:20240424T161752Z
UID:10000354-1769792400-1769803200@www.thebartramclub.com
SUMMARY:Food Truck Friday
DESCRIPTION:Join us on Fridays for a mouthwatering extravaganza at Food Truck Friday! Savor delectable bites from a variety of gourmet food trucks and indulge in a culinary adventure like no other!
URL:https://www.thebartramclub.com/event/food-truck-friday/2026-01-30/
LOCATION:Bartram Clubhouse\, 14530 E Cherry Lake Dr\, Jacksonville\, FL\, 32258\, United States
CATEGORIES:Food Trucks
ATTACH;FMTTYPE=image/jpeg:https://www.thebartramclub.com/wp-content/uploads/2024/04/food-truck-friday.jpg
END:VEVENT
BEGIN:VEVENT
DTSTART;TZID=America/New_York:20260131T110000
DTEND;TZID=America/New_York:20260131T140000
DTSTAMP:20260424T055314
CREATED:20260102T175928Z
LAST-MODIFIED:20260102T175928Z
UID:10003045-1769857200-1769868000@www.thebartramclub.com
SUMMARY:Vendor Village
DESCRIPTION:Amenity Center
URL:https://www.thebartramclub.com/event/vendor-village-4/
END:VEVENT
END:VCALENDAR