BEGIN:VCALENDAR
VERSION:2.0
PRODID:-//The Bartram Club - ECPv6.15.20//NONSGML v1.0//EN
CALSCALE:GREGORIAN
METHOD:PUBLISH
X-WR-CALNAME:The Bartram Club
X-ORIGINAL-URL:https://www.thebartramclub.com
X-WR-CALDESC:Events for The Bartram Club
REFRESH-INTERVAL;VALUE=DURATION:PT1H
X-Robots-Tag:noindex
X-PUBLISHED-TTL:PT1H
BEGIN:VTIMEZONE
TZID:America/New_York
BEGIN:DAYLIGHT
TZOFFSETFROM:-0500
TZOFFSETTO:-0400
TZNAME:EDT
DTSTART:20240310T070000
END:DAYLIGHT
BEGIN:STANDARD
TZOFFSETFROM:-0400
TZOFFSETTO:-0500
TZNAME:EST
DTSTART:20241103T060000
END:STANDARD
BEGIN:DAYLIGHT
TZOFFSETFROM:-0500
TZOFFSETTO:-0400
TZNAME:EDT
DTSTART:20250309T070000
END:DAYLIGHT
BEGIN:STANDARD
TZOFFSETFROM:-0400
TZOFFSETTO:-0500
TZNAME:EST
DTSTART:20251102T060000
END:STANDARD
BEGIN:DAYLIGHT
TZOFFSETFROM:-0500
TZOFFSETTO:-0400
TZNAME:EDT
DTSTART:20260308T070000
END:DAYLIGHT
BEGIN:STANDARD
TZOFFSETFROM:-0400
TZOFFSETTO:-0500
TZNAME:EST
DTSTART:20261101T060000
END:STANDARD
END:VTIMEZONE
BEGIN:VEVENT
DTSTART;TZID=America/New_York:20251119T180000
DTEND;TZID=America/New_York:20251119T190000
DTSTAMP:20260421T222150
CREATED:20251030T181041Z
LAST-MODIFIED:20251030T181041Z
UID:10003005-1763575200-1763578800@www.thebartramclub.com
SUMMARY:HOA Floridian Property Management
DESCRIPTION:
URL:https://www.thebartramclub.com/event/hoa-floridian-property-management/
END:VEVENT
BEGIN:VEVENT
DTSTART;TZID=America/New_York:20251121T170000
DTEND;TZID=America/New_York:20251121T200000
DTSTAMP:20260421T222150
CREATED:20251030T181631Z
LAST-MODIFIED:20251030T181631Z
UID:10003011-1763744400-1763755200@www.thebartramclub.com
SUMMARY:Food Truck Friday
DESCRIPTION:
URL:https://www.thebartramclub.com/event/food-truck-friday-21/
END:VEVENT
BEGIN:VEVENT
DTSTART;TZID=America/New_York:20251121T170000
DTEND;TZID=America/New_York:20251121T200000
DTSTAMP:20260421T222150
CREATED:20240424T161752Z
LAST-MODIFIED:20240424T161752Z
UID:10000344-1763744400-1763755200@www.thebartramclub.com
SUMMARY:Food Truck Friday
DESCRIPTION:Join us on Fridays for a mouthwatering extravaganza at Food Truck Friday! Savor delectable bites from a variety of gourmet food trucks and indulge in a culinary adventure like no other!
URL:https://www.thebartramclub.com/event/food-truck-friday/2025-11-21/
LOCATION:Bartram Clubhouse\, 14530 E Cherry Lake Dr\, Jacksonville\, FL\, 32258\, United States
CATEGORIES:Food Trucks
ATTACH;FMTTYPE=image/jpeg:https://www.thebartramclub.com/wp-content/uploads/2024/04/food-truck-friday.jpg
END:VEVENT
BEGIN:VEVENT
DTSTART;TZID=America/New_York:20251125T190000
DTEND;TZID=America/New_York:20251125T200000
DTSTAMP:20260421T222150
CREATED:20251030T181147Z
LAST-MODIFIED:20251030T181147Z
UID:10003006-1764097200-1764100800@www.thebartramclub.com
SUMMARY:HOA Trinity Property Services
DESCRIPTION:
URL:https://www.thebartramclub.com/event/hoa-trinity-property-services/
END:VEVENT
BEGIN:VEVENT
DTSTART;TZID=America/New_York:20251126T170000
DTEND;TZID=America/New_York:20251126T193000
DTSTAMP:20260421T222150
CREATED:20251002T192614Z
LAST-MODIFIED:20251030T181234Z
UID:10002993-1764176400-1764185400@www.thebartramclub.com
SUMMARY:Chick-Fil-A
DESCRIPTION:Amenity Center
URL:https://www.thebartramclub.com/event/chick-fil-a-2/
END:VEVENT
BEGIN:VEVENT
DTSTART;TZID=America/New_York:20251127T080000
DTEND;TZID=America/New_York:20251127T170000
DTSTAMP:20260421T222150
CREATED:20251030T181316Z
LAST-MODIFIED:20251030T181316Z
UID:10003007-1764230400-1764262800@www.thebartramclub.com
SUMMARY:Thanksgiving
DESCRIPTION:office closed
URL:https://www.thebartramclub.com/event/thanksgiving/
END:VEVENT
BEGIN:VEVENT
DTSTART;TZID=America/New_York:20251128T170000
DTEND;TZID=America/New_York:20251128T200000
DTSTAMP:20260421T222150
CREATED:20251030T181706Z
LAST-MODIFIED:20251030T181706Z
UID:10003012-1764349200-1764360000@www.thebartramclub.com
SUMMARY:Food Truck Friday
DESCRIPTION:
URL:https://www.thebartramclub.com/event/food-truck-friday-22/
END:VEVENT
BEGIN:VEVENT
DTSTART;TZID=America/New_York:20251128T170000
DTEND;TZID=America/New_York:20251128T200000
DTSTAMP:20260421T222150
CREATED:20240424T161752Z
LAST-MODIFIED:20240424T161752Z
UID:10000345-1764349200-1764360000@www.thebartramclub.com
SUMMARY:Food Truck Friday
DESCRIPTION:Join us on Fridays for a mouthwatering extravaganza at Food Truck Friday! Savor delectable bites from a variety of gourmet food trucks and indulge in a culinary adventure like no other!
URL:https://www.thebartramclub.com/event/food-truck-friday/2025-11-28/
LOCATION:Bartram Clubhouse\, 14530 E Cherry Lake Dr\, Jacksonville\, FL\, 32258\, United States
CATEGORIES:Food Trucks
ATTACH;FMTTYPE=image/jpeg:https://www.thebartramclub.com/wp-content/uploads/2024/04/food-truck-friday.jpg
END:VEVENT
END:VCALENDAR