BEGIN:VCALENDAR
VERSION:2.0
PRODID:-//The Bartram Club - ECPv6.15.20//NONSGML v1.0//EN
CALSCALE:GREGORIAN
METHOD:PUBLISH
X-ORIGINAL-URL:https://www.thebartramclub.com
X-WR-CALDESC:Events for The Bartram Club
REFRESH-INTERVAL;VALUE=DURATION:PT1H
X-Robots-Tag:noindex
X-PUBLISHED-TTL:PT1H
BEGIN:VTIMEZONE
TZID:America/New_York
BEGIN:DAYLIGHT
TZOFFSETFROM:-0500
TZOFFSETTO:-0400
TZNAME:EDT
DTSTART:20300310T070000
END:DAYLIGHT
BEGIN:STANDARD
TZOFFSETFROM:-0400
TZOFFSETTO:-0500
TZNAME:EST
DTSTART:20301103T060000
END:STANDARD
BEGIN:DAYLIGHT
TZOFFSETFROM:-0500
TZOFFSETTO:-0400
TZNAME:EDT
DTSTART:20310309T070000
END:DAYLIGHT
BEGIN:STANDARD
TZOFFSETFROM:-0400
TZOFFSETTO:-0500
TZNAME:EST
DTSTART:20311102T060000
END:STANDARD
BEGIN:DAYLIGHT
TZOFFSETFROM:-0500
TZOFFSETTO:-0400
TZNAME:EDT
DTSTART:20320314T070000
END:DAYLIGHT
BEGIN:STANDARD
TZOFFSETFROM:-0400
TZOFFSETTO:-0500
TZNAME:EST
DTSTART:20321107T060000
END:STANDARD
END:VTIMEZONE
BEGIN:VEVENT
DTSTART;TZID=America/New_York:20310211T180000
DTEND;TZID=America/New_York:20310211T190000
DTSTAMP:20260422T063520
CREATED:20260324T220531Z
LAST-MODIFIED:20260324T220531Z
UID:10003900-1928599200-1928602800@www.thebartramclub.com
SUMMARY:Zumba
DESCRIPTION:Flex Room
URL:https://www.thebartramclub.com/event/zumba-4/2031-02-11/
END:VEVENT
BEGIN:VEVENT
DTSTART;TZID=America/New_York:20310212T171500
DTEND;TZID=America/New_York:20310212T181500
DTSTAMP:20260422T063520
CREATED:20260227T193933Z
LAST-MODIFIED:20260303T221051Z
UID:10003631-1928682900-1928686500@www.thebartramclub.com
SUMMARY:Gentle Yoga Flow
DESCRIPTION:
URL:https://www.thebartramclub.com/event/gentle-yoga-flow/2031-02-12/
END:VEVENT
BEGIN:VEVENT
DTSTART;TZID=America/New_York:20310218T180000
DTEND;TZID=America/New_York:20310218T190000
DTSTAMP:20260422T063520
CREATED:20260324T220531Z
LAST-MODIFIED:20260324T220531Z
UID:10003901-1929204000-1929207600@www.thebartramclub.com
SUMMARY:Zumba
DESCRIPTION:Flex Room
URL:https://www.thebartramclub.com/event/zumba-4/2031-02-18/
END:VEVENT
BEGIN:VEVENT
DTSTART;TZID=America/New_York:20310219T171500
DTEND;TZID=America/New_York:20310219T181500
DTSTAMP:20260422T063520
CREATED:20260227T193933Z
LAST-MODIFIED:20260303T221051Z
UID:10003632-1929287700-1929291300@www.thebartramclub.com
SUMMARY:Gentle Yoga Flow
DESCRIPTION:
URL:https://www.thebartramclub.com/event/gentle-yoga-flow/2031-02-19/
END:VEVENT
BEGIN:VEVENT
DTSTART;TZID=America/New_York:20310225T180000
DTEND;TZID=America/New_York:20310225T190000
DTSTAMP:20260422T063520
CREATED:20260324T220531Z
LAST-MODIFIED:20260324T220531Z
UID:10003902-1929808800-1929812400@www.thebartramclub.com
SUMMARY:Zumba
DESCRIPTION:Flex Room
URL:https://www.thebartramclub.com/event/zumba-4/2031-02-25/
END:VEVENT
BEGIN:VEVENT
DTSTART;TZID=America/New_York:20310226T171500
DTEND;TZID=America/New_York:20310226T181500
DTSTAMP:20260422T063520
CREATED:20260227T193933Z
LAST-MODIFIED:20260303T221051Z
UID:10003633-1929892500-1929896100@www.thebartramclub.com
SUMMARY:Gentle Yoga Flow
DESCRIPTION:
URL:https://www.thebartramclub.com/event/gentle-yoga-flow/2031-02-26/
END:VEVENT
BEGIN:VEVENT
DTSTART;TZID=America/New_York:20310304T180000
DTEND;TZID=America/New_York:20310304T190000
DTSTAMP:20260422T063520
CREATED:20260324T220531Z
LAST-MODIFIED:20260324T220531Z
UID:10003903-1930413600-1930417200@www.thebartramclub.com
SUMMARY:Zumba
DESCRIPTION:Flex Room
URL:https://www.thebartramclub.com/event/zumba-4/2031-03-04/
END:VEVENT
BEGIN:VEVENT
DTSTART;TZID=America/New_York:20310311T180000
DTEND;TZID=America/New_York:20310311T190000
DTSTAMP:20260422T063520
CREATED:20260324T220531Z
LAST-MODIFIED:20260324T220531Z
UID:10003904-1931018400-1931022000@www.thebartramclub.com
SUMMARY:Zumba
DESCRIPTION:Flex Room
URL:https://www.thebartramclub.com/event/zumba-4/2031-03-11/
END:VEVENT
BEGIN:VEVENT
DTSTART;TZID=America/New_York:20310318T180000
DTEND;TZID=America/New_York:20310318T190000
DTSTAMP:20260422T063520
CREATED:20260324T220531Z
LAST-MODIFIED:20260324T220531Z
UID:10003905-1931623200-1931626800@www.thebartramclub.com
SUMMARY:Zumba
DESCRIPTION:Flex Room
URL:https://www.thebartramclub.com/event/zumba-4/2031-03-18/
END:VEVENT
END:VCALENDAR