BEGIN:VCALENDAR
VERSION:2.0
PRODID:-//The Bartram Club - ECPv6.15.20//NONSGML v1.0//EN
CALSCALE:GREGORIAN
METHOD:PUBLISH
X-WR-CALNAME:The Bartram Club
X-ORIGINAL-URL:https://www.thebartramclub.com
X-WR-CALDESC:Events for The Bartram Club
REFRESH-INTERVAL;VALUE=DURATION:PT1H
X-Robots-Tag:noindex
X-PUBLISHED-TTL:PT1H
BEGIN:VTIMEZONE
TZID:America/New_York
BEGIN:DAYLIGHT
TZOFFSETFROM:-0500
TZOFFSETTO:-0400
TZNAME:EDT
DTSTART:20280312T070000
END:DAYLIGHT
BEGIN:STANDARD
TZOFFSETFROM:-0400
TZOFFSETTO:-0500
TZNAME:EST
DTSTART:20281105T060000
END:STANDARD
BEGIN:DAYLIGHT
TZOFFSETFROM:-0500
TZOFFSETTO:-0400
TZNAME:EDT
DTSTART:20290311T070000
END:DAYLIGHT
BEGIN:STANDARD
TZOFFSETFROM:-0400
TZOFFSETTO:-0500
TZNAME:EST
DTSTART:20291104T060000
END:STANDARD
BEGIN:DAYLIGHT
TZOFFSETFROM:-0500
TZOFFSETTO:-0400
TZNAME:EDT
DTSTART:20300310T070000
END:DAYLIGHT
BEGIN:STANDARD
TZOFFSETFROM:-0400
TZOFFSETTO:-0500
TZNAME:EST
DTSTART:20301103T060000
END:STANDARD
BEGIN:DAYLIGHT
TZOFFSETFROM:-0500
TZOFFSETTO:-0400
TZNAME:EDT
DTSTART:20310309T070000
END:DAYLIGHT
BEGIN:STANDARD
TZOFFSETFROM:-0400
TZOFFSETTO:-0500
TZNAME:EST
DTSTART:20311102T060000
END:STANDARD
END:VTIMEZONE
BEGIN:VEVENT
DTSTART;TZID=America/New_York:20291031T171500
DTEND;TZID=America/New_York:20291031T181500
DTSTAMP:20260421T111636
CREATED:20260227T193933Z
LAST-MODIFIED:20260303T221051Z
UID:10003564-1888161300-1888164900@www.thebartramclub.com
SUMMARY:Gentle Yoga Flow
DESCRIPTION:
URL:https://www.thebartramclub.com/event/gentle-yoga-flow/2029-10-31/
END:VEVENT
BEGIN:VEVENT
DTSTART;TZID=America/New_York:20291106T180000
DTEND;TZID=America/New_York:20291106T190000
DTSTAMP:20260421T111636
CREATED:20260324T220531Z
LAST-MODIFIED:20260324T220531Z
UID:10003834-1888682400-1888686000@www.thebartramclub.com
SUMMARY:Zumba
DESCRIPTION:Flex Room
URL:https://www.thebartramclub.com/event/zumba-4/2029-11-06/
END:VEVENT
BEGIN:VEVENT
DTSTART;TZID=America/New_York:20291107T171500
DTEND;TZID=America/New_York:20291107T181500
DTSTAMP:20260421T111636
CREATED:20260227T193933Z
LAST-MODIFIED:20260303T221051Z
UID:10003565-1888766100-1888769700@www.thebartramclub.com
SUMMARY:Gentle Yoga Flow
DESCRIPTION:
URL:https://www.thebartramclub.com/event/gentle-yoga-flow/2029-11-07/
END:VEVENT
BEGIN:VEVENT
DTSTART;TZID=America/New_York:20291113T180000
DTEND;TZID=America/New_York:20291113T190000
DTSTAMP:20260421T111636
CREATED:20260324T220531Z
LAST-MODIFIED:20260324T220531Z
UID:10003835-1889287200-1889290800@www.thebartramclub.com
SUMMARY:Zumba
DESCRIPTION:Flex Room
URL:https://www.thebartramclub.com/event/zumba-4/2029-11-13/
END:VEVENT
BEGIN:VEVENT
DTSTART;TZID=America/New_York:20291114T171500
DTEND;TZID=America/New_York:20291114T181500
DTSTAMP:20260421T111636
CREATED:20260227T193933Z
LAST-MODIFIED:20260303T221051Z
UID:10003566-1889370900-1889374500@www.thebartramclub.com
SUMMARY:Gentle Yoga Flow
DESCRIPTION:
URL:https://www.thebartramclub.com/event/gentle-yoga-flow/2029-11-14/
END:VEVENT
BEGIN:VEVENT
DTSTART;TZID=America/New_York:20291120T180000
DTEND;TZID=America/New_York:20291120T190000
DTSTAMP:20260421T111636
CREATED:20260324T220531Z
LAST-MODIFIED:20260324T220531Z
UID:10003836-1889892000-1889895600@www.thebartramclub.com
SUMMARY:Zumba
DESCRIPTION:Flex Room
URL:https://www.thebartramclub.com/event/zumba-4/2029-11-20/
END:VEVENT
BEGIN:VEVENT
DTSTART;TZID=America/New_York:20291121T171500
DTEND;TZID=America/New_York:20291121T181500
DTSTAMP:20260421T111636
CREATED:20260227T193933Z
LAST-MODIFIED:20260303T221051Z
UID:10003567-1889975700-1889979300@www.thebartramclub.com
SUMMARY:Gentle Yoga Flow
DESCRIPTION:
URL:https://www.thebartramclub.com/event/gentle-yoga-flow/2029-11-21/
END:VEVENT
BEGIN:VEVENT
DTSTART;TZID=America/New_York:20291127T180000
DTEND;TZID=America/New_York:20291127T190000
DTSTAMP:20260421T111636
CREATED:20260324T220531Z
LAST-MODIFIED:20260324T220531Z
UID:10003837-1890496800-1890500400@www.thebartramclub.com
SUMMARY:Zumba
DESCRIPTION:Flex Room
URL:https://www.thebartramclub.com/event/zumba-4/2029-11-27/
END:VEVENT
BEGIN:VEVENT
DTSTART;TZID=America/New_York:20291128T171500
DTEND;TZID=America/New_York:20291128T181500
DTSTAMP:20260421T111636
CREATED:20260227T193933Z
LAST-MODIFIED:20260303T221051Z
UID:10003568-1890580500-1890584100@www.thebartramclub.com
SUMMARY:Gentle Yoga Flow
DESCRIPTION:
URL:https://www.thebartramclub.com/event/gentle-yoga-flow/2029-11-28/
END:VEVENT
BEGIN:VEVENT
DTSTART;TZID=America/New_York:20291204T180000
DTEND;TZID=America/New_York:20291204T190000
DTSTAMP:20260421T111636
CREATED:20260324T220531Z
LAST-MODIFIED:20260324T220531Z
UID:10003838-1891101600-1891105200@www.thebartramclub.com
SUMMARY:Zumba
DESCRIPTION:Flex Room
URL:https://www.thebartramclub.com/event/zumba-4/2029-12-04/
END:VEVENT
BEGIN:VEVENT
DTSTART;TZID=America/New_York:20291205T171500
DTEND;TZID=America/New_York:20291205T181500
DTSTAMP:20260421T111636
CREATED:20260227T193933Z
LAST-MODIFIED:20260303T221051Z
UID:10003569-1891185300-1891188900@www.thebartramclub.com
SUMMARY:Gentle Yoga Flow
DESCRIPTION:
URL:https://www.thebartramclub.com/event/gentle-yoga-flow/2029-12-05/
END:VEVENT
BEGIN:VEVENT
DTSTART;TZID=America/New_York:20291211T180000
DTEND;TZID=America/New_York:20291211T190000
DTSTAMP:20260421T111636
CREATED:20260324T220531Z
LAST-MODIFIED:20260324T220531Z
UID:10003839-1891706400-1891710000@www.thebartramclub.com
SUMMARY:Zumba
DESCRIPTION:Flex Room
URL:https://www.thebartramclub.com/event/zumba-4/2029-12-11/
END:VEVENT
BEGIN:VEVENT
DTSTART;TZID=America/New_York:20291212T171500
DTEND;TZID=America/New_York:20291212T181500
DTSTAMP:20260421T111636
CREATED:20260227T193933Z
LAST-MODIFIED:20260303T221051Z
UID:10003570-1891790100-1891793700@www.thebartramclub.com
SUMMARY:Gentle Yoga Flow
DESCRIPTION:
URL:https://www.thebartramclub.com/event/gentle-yoga-flow/2029-12-12/
END:VEVENT
BEGIN:VEVENT
DTSTART;TZID=America/New_York:20291218T180000
DTEND;TZID=America/New_York:20291218T190000
DTSTAMP:20260421T111636
CREATED:20260324T220531Z
LAST-MODIFIED:20260324T220531Z
UID:10003840-1892311200-1892314800@www.thebartramclub.com
SUMMARY:Zumba
DESCRIPTION:Flex Room
URL:https://www.thebartramclub.com/event/zumba-4/2029-12-18/
END:VEVENT
BEGIN:VEVENT
DTSTART;TZID=America/New_York:20291219T171500
DTEND;TZID=America/New_York:20291219T181500
DTSTAMP:20260421T111636
CREATED:20260227T193933Z
LAST-MODIFIED:20260303T221051Z
UID:10003571-1892394900-1892398500@www.thebartramclub.com
SUMMARY:Gentle Yoga Flow
DESCRIPTION:
URL:https://www.thebartramclub.com/event/gentle-yoga-flow/2029-12-19/
END:VEVENT
BEGIN:VEVENT
DTSTART;TZID=America/New_York:20291225T180000
DTEND;TZID=America/New_York:20291225T190000
DTSTAMP:20260421T111636
CREATED:20260324T220531Z
LAST-MODIFIED:20260324T220531Z
UID:10003841-1892916000-1892919600@www.thebartramclub.com
SUMMARY:Zumba
DESCRIPTION:Flex Room
URL:https://www.thebartramclub.com/event/zumba-4/2029-12-25/
END:VEVENT
BEGIN:VEVENT
DTSTART;TZID=America/New_York:20291226T171500
DTEND;TZID=America/New_York:20291226T181500
DTSTAMP:20260421T111636
CREATED:20260227T193933Z
LAST-MODIFIED:20260303T221051Z
UID:10003572-1892999700-1893003300@www.thebartramclub.com
SUMMARY:Gentle Yoga Flow
DESCRIPTION:
URL:https://www.thebartramclub.com/event/gentle-yoga-flow/2029-12-26/
END:VEVENT
BEGIN:VEVENT
DTSTART;TZID=America/New_York:20300101T180000
DTEND;TZID=America/New_York:20300101T190000
DTSTAMP:20260421T111636
CREATED:20260324T220531Z
LAST-MODIFIED:20260324T220531Z
UID:10003842-1893520800-1893524400@www.thebartramclub.com
SUMMARY:Zumba
DESCRIPTION:Flex Room
URL:https://www.thebartramclub.com/event/zumba-4/2030-01-01/
END:VEVENT
BEGIN:VEVENT
DTSTART;TZID=America/New_York:20300102T171500
DTEND;TZID=America/New_York:20300102T181500
DTSTAMP:20260421T111636
CREATED:20260227T193933Z
LAST-MODIFIED:20260303T221051Z
UID:10003573-1893604500-1893608100@www.thebartramclub.com
SUMMARY:Gentle Yoga Flow
DESCRIPTION:
URL:https://www.thebartramclub.com/event/gentle-yoga-flow/2030-01-02/
END:VEVENT
BEGIN:VEVENT
DTSTART;TZID=America/New_York:20300108T180000
DTEND;TZID=America/New_York:20300108T190000
DTSTAMP:20260421T111636
CREATED:20260324T220531Z
LAST-MODIFIED:20260324T220531Z
UID:10003843-1894125600-1894129200@www.thebartramclub.com
SUMMARY:Zumba
DESCRIPTION:Flex Room
URL:https://www.thebartramclub.com/event/zumba-4/2030-01-08/
END:VEVENT
BEGIN:VEVENT
DTSTART;TZID=America/New_York:20300109T171500
DTEND;TZID=America/New_York:20300109T181500
DTSTAMP:20260421T111636
CREATED:20260227T193933Z
LAST-MODIFIED:20260303T221051Z
UID:10003574-1894209300-1894212900@www.thebartramclub.com
SUMMARY:Gentle Yoga Flow
DESCRIPTION:
URL:https://www.thebartramclub.com/event/gentle-yoga-flow/2030-01-09/
END:VEVENT
BEGIN:VEVENT
DTSTART;TZID=America/New_York:20300115T180000
DTEND;TZID=America/New_York:20300115T190000
DTSTAMP:20260421T111636
CREATED:20260324T220531Z
LAST-MODIFIED:20260324T220531Z
UID:10003844-1894730400-1894734000@www.thebartramclub.com
SUMMARY:Zumba
DESCRIPTION:Flex Room
URL:https://www.thebartramclub.com/event/zumba-4/2030-01-15/
END:VEVENT
BEGIN:VEVENT
DTSTART;TZID=America/New_York:20300116T171500
DTEND;TZID=America/New_York:20300116T181500
DTSTAMP:20260421T111636
CREATED:20260227T193933Z
LAST-MODIFIED:20260303T221051Z
UID:10003575-1894814100-1894817700@www.thebartramclub.com
SUMMARY:Gentle Yoga Flow
DESCRIPTION:
URL:https://www.thebartramclub.com/event/gentle-yoga-flow/2030-01-16/
END:VEVENT
BEGIN:VEVENT
DTSTART;TZID=America/New_York:20300122T180000
DTEND;TZID=America/New_York:20300122T190000
DTSTAMP:20260421T111636
CREATED:20260324T220531Z
LAST-MODIFIED:20260324T220531Z
UID:10003845-1895335200-1895338800@www.thebartramclub.com
SUMMARY:Zumba
DESCRIPTION:Flex Room
URL:https://www.thebartramclub.com/event/zumba-4/2030-01-22/
END:VEVENT
BEGIN:VEVENT
DTSTART;TZID=America/New_York:20300123T171500
DTEND;TZID=America/New_York:20300123T181500
DTSTAMP:20260421T111636
CREATED:20260227T193933Z
LAST-MODIFIED:20260303T221051Z
UID:10003576-1895418900-1895422500@www.thebartramclub.com
SUMMARY:Gentle Yoga Flow
DESCRIPTION:
URL:https://www.thebartramclub.com/event/gentle-yoga-flow/2030-01-23/
END:VEVENT
BEGIN:VEVENT
DTSTART;TZID=America/New_York:20300129T180000
DTEND;TZID=America/New_York:20300129T190000
DTSTAMP:20260421T111636
CREATED:20260324T220531Z
LAST-MODIFIED:20260324T220531Z
UID:10003846-1895940000-1895943600@www.thebartramclub.com
SUMMARY:Zumba
DESCRIPTION:Flex Room
URL:https://www.thebartramclub.com/event/zumba-4/2030-01-29/
END:VEVENT
BEGIN:VEVENT
DTSTART;TZID=America/New_York:20300130T171500
DTEND;TZID=America/New_York:20300130T181500
DTSTAMP:20260421T111636
CREATED:20260227T193933Z
LAST-MODIFIED:20260303T221051Z
UID:10003577-1896023700-1896027300@www.thebartramclub.com
SUMMARY:Gentle Yoga Flow
DESCRIPTION:
URL:https://www.thebartramclub.com/event/gentle-yoga-flow/2030-01-30/
END:VEVENT
BEGIN:VEVENT
DTSTART;TZID=America/New_York:20300205T180000
DTEND;TZID=America/New_York:20300205T190000
DTSTAMP:20260421T111636
CREATED:20260324T220531Z
LAST-MODIFIED:20260324T220531Z
UID:10003847-1896544800-1896548400@www.thebartramclub.com
SUMMARY:Zumba
DESCRIPTION:Flex Room
URL:https://www.thebartramclub.com/event/zumba-4/2030-02-05/
END:VEVENT
BEGIN:VEVENT
DTSTART;TZID=America/New_York:20300206T171500
DTEND;TZID=America/New_York:20300206T181500
DTSTAMP:20260421T111636
CREATED:20260227T193933Z
LAST-MODIFIED:20260303T221051Z
UID:10003578-1896628500-1896632100@www.thebartramclub.com
SUMMARY:Gentle Yoga Flow
DESCRIPTION:
URL:https://www.thebartramclub.com/event/gentle-yoga-flow/2030-02-06/
END:VEVENT
BEGIN:VEVENT
DTSTART;TZID=America/New_York:20300212T180000
DTEND;TZID=America/New_York:20300212T190000
DTSTAMP:20260421T111636
CREATED:20260324T220531Z
LAST-MODIFIED:20260324T220531Z
UID:10003848-1897149600-1897153200@www.thebartramclub.com
SUMMARY:Zumba
DESCRIPTION:Flex Room
URL:https://www.thebartramclub.com/event/zumba-4/2030-02-12/
END:VEVENT
END:VCALENDAR