BEGIN:VCALENDAR
VERSION:2.0
PRODID:-//The Bartram Club - ECPv6.15.20//NONSGML v1.0//EN
CALSCALE:GREGORIAN
METHOD:PUBLISH
X-ORIGINAL-URL:https://www.thebartramclub.com
X-WR-CALDESC:Events for The Bartram Club
REFRESH-INTERVAL;VALUE=DURATION:PT1H
X-Robots-Tag:noindex
X-PUBLISHED-TTL:PT1H
BEGIN:VTIMEZONE
TZID:America/New_York
BEGIN:DAYLIGHT
TZOFFSETFROM:-0500
TZOFFSETTO:-0400
TZNAME:EDT
DTSTART:20230312T070000
END:DAYLIGHT
BEGIN:STANDARD
TZOFFSETFROM:-0400
TZOFFSETTO:-0500
TZNAME:EST
DTSTART:20231105T060000
END:STANDARD
BEGIN:DAYLIGHT
TZOFFSETFROM:-0500
TZOFFSETTO:-0400
TZNAME:EDT
DTSTART:20240310T070000
END:DAYLIGHT
BEGIN:STANDARD
TZOFFSETFROM:-0400
TZOFFSETTO:-0500
TZNAME:EST
DTSTART:20241103T060000
END:STANDARD
BEGIN:DAYLIGHT
TZOFFSETFROM:-0500
TZOFFSETTO:-0400
TZNAME:EDT
DTSTART:20250309T070000
END:DAYLIGHT
BEGIN:STANDARD
TZOFFSETFROM:-0400
TZOFFSETTO:-0500
TZNAME:EST
DTSTART:20251102T060000
END:STANDARD
END:VTIMEZONE
BEGIN:VEVENT
DTSTART;TZID=America/New_York:20241227T170000
DTEND;TZID=America/New_York:20241227T200000
DTSTAMP:20260421T152645
CREATED:20240424T161752Z
LAST-MODIFIED:20240424T161752Z
UID:10000297-1735318800-1735329600@www.thebartramclub.com
SUMMARY:Food Truck Friday
DESCRIPTION:Join us on Fridays for a mouthwatering extravaganza at Food Truck Friday! Savor delectable bites from a variety of gourmet food trucks and indulge in a culinary adventure like no other!
URL:https://www.thebartramclub.com/event/food-truck-friday/2024-12-27/
LOCATION:Bartram Clubhouse\, 14530 E Cherry Lake Dr\, Jacksonville\, FL\, 32258\, United States
CATEGORIES:Food Trucks
ATTACH;FMTTYPE=image/jpeg:https://www.thebartramclub.com/wp-content/uploads/2024/04/food-truck-friday.jpg
END:VEVENT
BEGIN:VEVENT
DTSTART;TZID=America/New_York:20241225T080000
DTEND;TZID=America/New_York:20241225T170000
DTSTAMP:20260421T152645
CREATED:20241205T231749Z
LAST-MODIFIED:20241205T231749Z
UID:10002896-1735113600-1735146000@www.thebartramclub.com
SUMMARY:Christmas Day
DESCRIPTION:
URL:https://www.thebartramclub.com/event/christmas-day/
END:VEVENT
BEGIN:VEVENT
DTSTART;TZID=America/New_York:20241224T080000
DTEND;TZID=America/New_York:20241224T170000
DTSTAMP:20260421T152645
CREATED:20241205T231719Z
LAST-MODIFIED:20241205T231719Z
UID:10002895-1735027200-1735059600@www.thebartramclub.com
SUMMARY:Christmas Eve
DESCRIPTION:
URL:https://www.thebartramclub.com/event/christmas-eve/
END:VEVENT
BEGIN:VEVENT
DTSTART;TZID=America/New_York:20241220T170000
DTEND;TZID=America/New_York:20241220T200000
DTSTAMP:20260421T152645
CREATED:20241205T232131Z
LAST-MODIFIED:20241205T232131Z
UID:10002900-1734714000-1734724800@www.thebartramclub.com
SUMMARY:Food Truck Friday
DESCRIPTION:
URL:https://www.thebartramclub.com/event/food-truck-friday-12/
END:VEVENT
BEGIN:VEVENT
DTSTART;TZID=America/New_York:20241220T170000
DTEND;TZID=America/New_York:20241220T200000
DTSTAMP:20260421T152645
CREATED:20240424T161752Z
LAST-MODIFIED:20240424T161752Z
UID:10000296-1734714000-1734724800@www.thebartramclub.com
SUMMARY:Food Truck Friday
DESCRIPTION:Join us on Fridays for a mouthwatering extravaganza at Food Truck Friday! Savor delectable bites from a variety of gourmet food trucks and indulge in a culinary adventure like no other!
URL:https://www.thebartramclub.com/event/food-truck-friday/2024-12-20/
LOCATION:Bartram Clubhouse\, 14530 E Cherry Lake Dr\, Jacksonville\, FL\, 32258\, United States
CATEGORIES:Food Trucks
ATTACH;FMTTYPE=image/jpeg:https://www.thebartramclub.com/wp-content/uploads/2024/04/food-truck-friday.jpg
END:VEVENT
BEGIN:VEVENT
DTSTART;TZID=America/New_York:20241217T080000
DTEND;TZID=America/New_York:20241217T170000
DTSTAMP:20260421T152645
CREATED:20241205T224118Z
LAST-MODIFIED:20241205T224201Z
UID:10002894-1734422400-1734454800@www.thebartramclub.com
SUMMARY:Last day for Toy Drive
DESCRIPTION:Toy drop off at the Amenity Center
URL:https://www.thebartramclub.com/event/last-day-for-toy-drive/
ATTACH;FMTTYPE=image/png:https://www.thebartramclub.com/wp-content/uploads/2024/12/Ronald-McDonald-.png
END:VEVENT
BEGIN:VEVENT
DTSTART;TZID=America/New_York:20241215T130000
DTEND;TZID=America/New_York:20241215T170000
DTSTAMP:20260421T152645
CREATED:20241205T223806Z
LAST-MODIFIED:20241205T223806Z
UID:10002893-1734267600-1734282000@www.thebartramclub.com
SUMMARY:Winter Wonderland
DESCRIPTION:
URL:https://www.thebartramclub.com/event/winter-wonderland/
ATTACH;FMTTYPE=image/jpeg:https://www.thebartramclub.com/wp-content/uploads/2024/12/vendor-fair-xmas.jpeg
END:VEVENT
BEGIN:VEVENT
DTSTART;TZID=America/New_York:20241213T170000
DTEND;TZID=America/New_York:20241213T200000
DTSTAMP:20260421T152645
CREATED:20241205T232056Z
LAST-MODIFIED:20241205T232056Z
UID:10002899-1734109200-1734120000@www.thebartramclub.com
SUMMARY:Food Truck Friday
DESCRIPTION:
URL:https://www.thebartramclub.com/event/food-truck-friday-11/
END:VEVENT
BEGIN:VEVENT
DTSTART;TZID=America/New_York:20241213T170000
DTEND;TZID=America/New_York:20241213T200000
DTSTAMP:20260421T152645
CREATED:20240424T161752Z
LAST-MODIFIED:20240424T161752Z
UID:10000295-1734109200-1734120000@www.thebartramclub.com
SUMMARY:Food Truck Friday
DESCRIPTION:Join us on Fridays for a mouthwatering extravaganza at Food Truck Friday! Savor delectable bites from a variety of gourmet food trucks and indulge in a culinary adventure like no other!
URL:https://www.thebartramclub.com/event/food-truck-friday/2024-12-13/
LOCATION:Bartram Clubhouse\, 14530 E Cherry Lake Dr\, Jacksonville\, FL\, 32258\, United States
CATEGORIES:Food Trucks
ATTACH;FMTTYPE=image/jpeg:https://www.thebartramclub.com/wp-content/uploads/2024/04/food-truck-friday.jpg
END:VEVENT
BEGIN:VEVENT
DTSTART;TZID=America/New_York:20241206T170000
DTEND;TZID=America/New_York:20241206T200000
DTSTAMP:20260421T152645
CREATED:20241205T232019Z
LAST-MODIFIED:20241205T232019Z
UID:10002898-1733504400-1733515200@www.thebartramclub.com
SUMMARY:Food Truck Friday
DESCRIPTION:
URL:https://www.thebartramclub.com/event/food-truck-friday-10/
END:VEVENT
BEGIN:VEVENT
DTSTART;TZID=America/New_York:20241206T170000
DTEND;TZID=America/New_York:20241206T200000
DTSTAMP:20260421T152645
CREATED:20240424T161752Z
LAST-MODIFIED:20240424T161752Z
UID:10000294-1733504400-1733515200@www.thebartramclub.com
SUMMARY:Food Truck Friday
DESCRIPTION:Join us on Fridays for a mouthwatering extravaganza at Food Truck Friday! Savor delectable bites from a variety of gourmet food trucks and indulge in a culinary adventure like no other!
URL:https://www.thebartramclub.com/event/food-truck-friday/2024-12-06/
LOCATION:Bartram Clubhouse\, 14530 E Cherry Lake Dr\, Jacksonville\, FL\, 32258\, United States
CATEGORIES:Food Trucks
ATTACH;FMTTYPE=image/jpeg:https://www.thebartramclub.com/wp-content/uploads/2024/04/food-truck-friday.jpg
END:VEVENT
BEGIN:VEVENT
DTSTART;TZID=America/New_York:20241129T170000
DTEND;TZID=America/New_York:20241129T200000
DTSTAMP:20260421T152645
CREATED:20241030T234547Z
LAST-MODIFIED:20241030T234547Z
UID:10002875-1732899600-1732910400@www.thebartramclub.com
SUMMARY:Food Truck Friday
DESCRIPTION:
URL:https://www.thebartramclub.com/event/food-truck-friday-9/
END:VEVENT
BEGIN:VEVENT
DTSTART;TZID=America/New_York:20241129T170000
DTEND;TZID=America/New_York:20241129T200000
DTSTAMP:20260421T152645
CREATED:20240424T161752Z
LAST-MODIFIED:20240424T161752Z
UID:10000293-1732899600-1732910400@www.thebartramclub.com
SUMMARY:Food Truck Friday
DESCRIPTION:Join us on Fridays for a mouthwatering extravaganza at Food Truck Friday! Savor delectable bites from a variety of gourmet food trucks and indulge in a culinary adventure like no other!
URL:https://www.thebartramclub.com/event/food-truck-friday/2024-11-29/
LOCATION:Bartram Clubhouse\, 14530 E Cherry Lake Dr\, Jacksonville\, FL\, 32258\, United States
CATEGORIES:Food Trucks
ATTACH;FMTTYPE=image/jpeg:https://www.thebartramclub.com/wp-content/uploads/2024/04/food-truck-friday.jpg
END:VEVENT
BEGIN:VEVENT
DTSTART;TZID=America/New_York:20241128T080000
DTEND;TZID=America/New_York:20241128T170000
DTSTAMP:20260421T152645
CREATED:20241031T001946Z
LAST-MODIFIED:20241031T001946Z
UID:10002886-1732780800-1732813200@www.thebartramclub.com
SUMMARY:Thanksgiving Day
DESCRIPTION:Office Closed
URL:https://www.thebartramclub.com/event/thanksgiving-day/
END:VEVENT
BEGIN:VEVENT
DTSTART;TZID=America/New_York:20241122T170000
DTEND;TZID=America/New_York:20241122T200000
DTSTAMP:20260421T152645
CREATED:20241030T234518Z
LAST-MODIFIED:20241030T234518Z
UID:10002874-1732294800-1732305600@www.thebartramclub.com
SUMMARY:Food Truck Friday
DESCRIPTION:
URL:https://www.thebartramclub.com/event/food-truck-friday-8/
END:VEVENT
BEGIN:VEVENT
DTSTART;TZID=America/New_York:20241122T170000
DTEND;TZID=America/New_York:20241122T200000
DTSTAMP:20260421T152645
CREATED:20240424T161752Z
LAST-MODIFIED:20240424T161752Z
UID:10000292-1732294800-1732305600@www.thebartramclub.com
SUMMARY:Food Truck Friday
DESCRIPTION:Join us on Fridays for a mouthwatering extravaganza at Food Truck Friday! Savor delectable bites from a variety of gourmet food trucks and indulge in a culinary adventure like no other!
URL:https://www.thebartramclub.com/event/food-truck-friday/2024-11-22/
LOCATION:Bartram Clubhouse\, 14530 E Cherry Lake Dr\, Jacksonville\, FL\, 32258\, United States
CATEGORIES:Food Trucks
ATTACH;FMTTYPE=image/jpeg:https://www.thebartramclub.com/wp-content/uploads/2024/04/food-truck-friday.jpg
END:VEVENT
BEGIN:VEVENT
DTSTART;TZID=America/New_York:20241116T170000
DTEND;TZID=America/New_York:20241116T210000
DTSTAMP:20260421T152645
CREATED:20241031T001203Z
LAST-MODIFIED:20241116T183911Z
UID:10002881-1731776400-1731790800@www.thebartramclub.com
SUMMARY:Kids Night Out
DESCRIPTION:5-9pm
URL:https://www.thebartramclub.com/event/kids-night-out-2/
ATTACH;FMTTYPE=image/jpeg:https://www.thebartramclub.com/wp-content/uploads/2024/10/bubbles-kids-night-out.jpg
END:VEVENT
BEGIN:VEVENT
DTSTART;TZID=America/New_York:20241115T170000
DTEND;TZID=America/New_York:20241115T200000
DTSTAMP:20260421T152645
CREATED:20241030T234443Z
LAST-MODIFIED:20241030T234443Z
UID:10002873-1731690000-1731700800@www.thebartramclub.com
SUMMARY:Food Truck Fridy
DESCRIPTION:
URL:https://www.thebartramclub.com/event/food-truck-fridy/
END:VEVENT
BEGIN:VEVENT
DTSTART;TZID=America/New_York:20241115T170000
DTEND;TZID=America/New_York:20241115T200000
DTSTAMP:20260421T152645
CREATED:20240424T161752Z
LAST-MODIFIED:20240424T161752Z
UID:10000291-1731690000-1731700800@www.thebartramclub.com
SUMMARY:Food Truck Friday
DESCRIPTION:Join us on Fridays for a mouthwatering extravaganza at Food Truck Friday! Savor delectable bites from a variety of gourmet food trucks and indulge in a culinary adventure like no other!
URL:https://www.thebartramclub.com/event/food-truck-friday/2024-11-15/
LOCATION:Bartram Clubhouse\, 14530 E Cherry Lake Dr\, Jacksonville\, FL\, 32258\, United States
CATEGORIES:Food Trucks
ATTACH;FMTTYPE=image/jpeg:https://www.thebartramclub.com/wp-content/uploads/2024/04/food-truck-friday.jpg
END:VEVENT
BEGIN:VEVENT
DTSTART;TZID=America/New_York:20241113T183000
DTEND;TZID=America/New_York:20241113T200000
DTSTAMP:20260421T152645
CREATED:20241031T001427Z
LAST-MODIFIED:20241031T001427Z
UID:10002883-1731522600-1731528000@www.thebartramclub.com
SUMMARY:HOA Meeting- Villages
DESCRIPTION:
URL:https://www.thebartramclub.com/event/hoa-meeting-villages/
END:VEVENT
BEGIN:VEVENT
DTSTART;TZID=America/New_York:20241113T170000
DTEND;TZID=America/New_York:20241113T200000
DTSTAMP:20260421T152645
CREATED:20241031T000843Z
LAST-MODIFIED:20241031T000843Z
UID:10002879-1731517200-1731528000@www.thebartramclub.com
SUMMARY:Chic-Fil-A
DESCRIPTION:Amenity Center
URL:https://www.thebartramclub.com/event/chic-fil-a/
ATTACH;FMTTYPE=image/png:https://www.thebartramclub.com/wp-content/uploads/2024/04/Screenshot-2024-03-29-at-11.27.13-AM.png
END:VEVENT
BEGIN:VEVENT
DTSTART;TZID=America/New_York:20241108T170000
DTEND;TZID=America/New_York:20241108T200000
DTSTAMP:20260421T152645
CREATED:20241030T234409Z
LAST-MODIFIED:20241030T234409Z
UID:10002872-1731085200-1731096000@www.thebartramclub.com
SUMMARY:Food Truck Friday
DESCRIPTION:
URL:https://www.thebartramclub.com/event/food-truck-friday-7/
END:VEVENT
BEGIN:VEVENT
DTSTART;TZID=America/New_York:20241108T170000
DTEND;TZID=America/New_York:20241108T200000
DTSTAMP:20260421T152645
CREATED:20240424T161752Z
LAST-MODIFIED:20240424T161752Z
UID:10000290-1731085200-1731096000@www.thebartramclub.com
SUMMARY:Food Truck Friday
DESCRIPTION:Join us on Fridays for a mouthwatering extravaganza at Food Truck Friday! Savor delectable bites from a variety of gourmet food trucks and indulge in a culinary adventure like no other!
URL:https://www.thebartramclub.com/event/food-truck-friday/2024-11-08/
LOCATION:Bartram Clubhouse\, 14530 E Cherry Lake Dr\, Jacksonville\, FL\, 32258\, United States
CATEGORIES:Food Trucks
ATTACH;FMTTYPE=image/jpeg:https://www.thebartramclub.com/wp-content/uploads/2024/04/food-truck-friday.jpg
END:VEVENT
BEGIN:VEVENT
DTSTART;TZID=America/New_York:20241106T170000
DTEND;TZID=America/New_York:20241106T180000
DTSTAMP:20260421T152645
CREATED:20240906T224213Z
LAST-MODIFIED:20241005T153404Z
UID:10002505-1730912400-1730916000@www.thebartramclub.com
SUMMARY:Happy Hoops
DESCRIPTION:Monday’s and Wednesday’s starting September 16th to November 6th. 5pm to 6pm at the Bartram Springs Basketball court. Register at www.happyhoopsbasketball.com. Cost $99 once per week for 8 weeks or $198 twice per week for 8 weeks. Ages 2nd grade thru 6th grade.
URL:https://www.thebartramclub.com/event/happy-hoops/2024-11-06/
ATTACH;FMTTYPE=image/jpeg:https://www.thebartramclub.com/wp-content/uploads/2024/09/Happy-Hoops-Fall-Season-Flyer-JPEG1.jpg
END:VEVENT
BEGIN:VEVENT
DTSTART;TZID=America/New_York:20241105T070000
DTEND;TZID=America/New_York:20241105T190000
DTSTAMP:20260421T152645
CREATED:20241031T000301Z
LAST-MODIFIED:20241031T000404Z
UID:10002878-1730790000-1730833200@www.thebartramclub.com
SUMMARY:Voting Day
DESCRIPTION:
URL:https://www.thebartramclub.com/event/voting-day/
ATTACH;FMTTYPE=image/png:https://www.thebartramclub.com/wp-content/uploads/2024/10/polling-place.png
END:VEVENT
BEGIN:VEVENT
DTSTART;TZID=America/New_York:20241104T170000
DTEND;TZID=America/New_York:20241104T180000
DTSTAMP:20260421T152645
CREATED:20240906T224213Z
LAST-MODIFIED:20241005T153404Z
UID:10002504-1730739600-1730743200@www.thebartramclub.com
SUMMARY:Happy Hoops
DESCRIPTION:Monday’s and Wednesday’s starting September 16th to November 6th. 5pm to 6pm at the Bartram Springs Basketball court. Register at www.happyhoopsbasketball.com. Cost $99 once per week for 8 weeks or $198 twice per week for 8 weeks. Ages 2nd grade thru 6th grade.
URL:https://www.thebartramclub.com/event/happy-hoops/2024-11-04/
ATTACH;FMTTYPE=image/jpeg:https://www.thebartramclub.com/wp-content/uploads/2024/09/Happy-Hoops-Fall-Season-Flyer-JPEG1.jpg
END:VEVENT
BEGIN:VEVENT
DTSTART;TZID=America/New_York:20241104T083000
DTEND;TZID=America/New_York:20241104T100000
DTSTAMP:20260421T152645
CREATED:20241030T235013Z
LAST-MODIFIED:20241030T235013Z
UID:10002877-1730709000-1730714400@www.thebartramclub.com
SUMMARY:CDD Meeting
DESCRIPTION:Social Hall
URL:https://www.thebartramclub.com/event/cdd-meeting-4/
END:VEVENT
BEGIN:VEVENT
DTSTART;TZID=America/New_York:20241103T170000
DTEND;TZID=America/New_York:20241103T210000
DTSTAMP:20260421T152645
CREATED:20241030T234911Z
LAST-MODIFIED:20241030T234911Z
UID:10002876-1730653200-1730667600@www.thebartramclub.com
SUMMARY:N.O.B.B.
DESCRIPTION:
URL:https://www.thebartramclub.com/event/n-o-b-b-2/
ATTACH;FMTTYPE=image/jpeg:https://www.thebartramclub.com/wp-content/uploads/2024/09/nobb.jpg
END:VEVENT
BEGIN:VEVENT
DTSTART;TZID=America/New_York:20241103T080000
DTEND;TZID=America/New_York:20241103T170000
DTSTAMP:20260421T152645
CREATED:20241031T001559Z
LAST-MODIFIED:20241031T001559Z
UID:10002884-1730620800-1730653200@www.thebartramclub.com
SUMMARY:Daylight Savings
DESCRIPTION:Fall back!
URL:https://www.thebartramclub.com/event/daylight-savings/
ATTACH;FMTTYPE=image/jpeg:https://www.thebartramclub.com/wp-content/uploads/2024/10/fall-back-sunday-Made-with-PosterMyWall-_1_.jpg
END:VEVENT
BEGIN:VEVENT
DTSTART;TZID=America/New_York:20241101T170000
DTEND;TZID=America/New_York:20241101T200000
DTSTAMP:20260421T152645
CREATED:20241030T234303Z
LAST-MODIFIED:20241030T234303Z
UID:10002871-1730480400-1730491200@www.thebartramclub.com
SUMMARY:Food Truck Friday
DESCRIPTION:
URL:https://www.thebartramclub.com/event/food-truck-friday-6/
END:VEVENT
END:VCALENDAR