BEGIN:VCALENDAR
VERSION:2.0
PRODID:-//The Bartram Club - ECPv6.15.20//NONSGML v1.0//EN
CALSCALE:GREGORIAN
METHOD:PUBLISH
X-WR-CALNAME:The Bartram Club
X-ORIGINAL-URL:https://www.thebartramclub.com
X-WR-CALDESC:Events for The Bartram Club
REFRESH-INTERVAL;VALUE=DURATION:PT1H
X-Robots-Tag:noindex
X-PUBLISHED-TTL:PT1H
BEGIN:VTIMEZONE
TZID:America/New_York
BEGIN:DAYLIGHT
TZOFFSETFROM:-0500
TZOFFSETTO:-0400
TZNAME:EDT
DTSTART:20240310T070000
END:DAYLIGHT
BEGIN:STANDARD
TZOFFSETFROM:-0400
TZOFFSETTO:-0500
TZNAME:EST
DTSTART:20241103T060000
END:STANDARD
BEGIN:DAYLIGHT
TZOFFSETFROM:-0500
TZOFFSETTO:-0400
TZNAME:EDT
DTSTART:20250309T070000
END:DAYLIGHT
BEGIN:STANDARD
TZOFFSETFROM:-0400
TZOFFSETTO:-0500
TZNAME:EST
DTSTART:20251102T060000
END:STANDARD
BEGIN:DAYLIGHT
TZOFFSETFROM:-0500
TZOFFSETTO:-0400
TZNAME:EDT
DTSTART:20260308T070000
END:DAYLIGHT
BEGIN:STANDARD
TZOFFSETFROM:-0400
TZOFFSETTO:-0500
TZNAME:EST
DTSTART:20261101T060000
END:STANDARD
END:VTIMEZONE
BEGIN:VEVENT
DTSTART;TZID=America/New_York:20251205T170000
DTEND;TZID=America/New_York:20251205T200000
DTSTAMP:20260420T191623
CREATED:20240424T161752Z
LAST-MODIFIED:20240424T161752Z
UID:10000346-1764954000-1764964800@www.thebartramclub.com
SUMMARY:Food Truck Friday
DESCRIPTION:Join us on Fridays for a mouthwatering extravaganza at Food Truck Friday! Savor delectable bites from a variety of gourmet food trucks and indulge in a culinary adventure like no other!
URL:https://www.thebartramclub.com/event/food-truck-friday/2025-12-05/
LOCATION:Bartram Clubhouse\, 14530 E Cherry Lake Dr\, Jacksonville\, FL\, 32258\, United States
CATEGORIES:Food Trucks
ATTACH;FMTTYPE=image/jpeg:https://www.thebartramclub.com/wp-content/uploads/2024/04/food-truck-friday.jpg
END:VEVENT
BEGIN:VEVENT
DTSTART;TZID=America/New_York:20251203T170000
DTEND;TZID=America/New_York:20251203T193000
DTSTAMP:20260420T191623
CREATED:20251204T204646Z
LAST-MODIFIED:20251204T204646Z
UID:10003026-1764781200-1764790200@www.thebartramclub.com
SUMMARY:Chick Fil A
DESCRIPTION:
URL:https://www.thebartramclub.com/event/chick-fil-a-4/
END:VEVENT
BEGIN:VEVENT
DTSTART;TZID=America/New_York:20251128T170000
DTEND;TZID=America/New_York:20251128T200000
DTSTAMP:20260420T191623
CREATED:20251030T181706Z
LAST-MODIFIED:20251030T181706Z
UID:10003012-1764349200-1764360000@www.thebartramclub.com
SUMMARY:Food Truck Friday
DESCRIPTION:
URL:https://www.thebartramclub.com/event/food-truck-friday-22/
END:VEVENT
BEGIN:VEVENT
DTSTART;TZID=America/New_York:20251128T170000
DTEND;TZID=America/New_York:20251128T200000
DTSTAMP:20260420T191623
CREATED:20240424T161752Z
LAST-MODIFIED:20240424T161752Z
UID:10000345-1764349200-1764360000@www.thebartramclub.com
SUMMARY:Food Truck Friday
DESCRIPTION:Join us on Fridays for a mouthwatering extravaganza at Food Truck Friday! Savor delectable bites from a variety of gourmet food trucks and indulge in a culinary adventure like no other!
URL:https://www.thebartramclub.com/event/food-truck-friday/2025-11-28/
LOCATION:Bartram Clubhouse\, 14530 E Cherry Lake Dr\, Jacksonville\, FL\, 32258\, United States
CATEGORIES:Food Trucks
ATTACH;FMTTYPE=image/jpeg:https://www.thebartramclub.com/wp-content/uploads/2024/04/food-truck-friday.jpg
END:VEVENT
BEGIN:VEVENT
DTSTART;TZID=America/New_York:20251127T080000
DTEND;TZID=America/New_York:20251127T170000
DTSTAMP:20260420T191623
CREATED:20251030T181316Z
LAST-MODIFIED:20251030T181316Z
UID:10003007-1764230400-1764262800@www.thebartramclub.com
SUMMARY:Thanksgiving
DESCRIPTION:office closed
URL:https://www.thebartramclub.com/event/thanksgiving/
END:VEVENT
BEGIN:VEVENT
DTSTART;TZID=America/New_York:20251126T170000
DTEND;TZID=America/New_York:20251126T193000
DTSTAMP:20260420T191623
CREATED:20251002T192614Z
LAST-MODIFIED:20251030T181234Z
UID:10002993-1764176400-1764185400@www.thebartramclub.com
SUMMARY:Chick-Fil-A
DESCRIPTION:Amenity Center
URL:https://www.thebartramclub.com/event/chick-fil-a-2/
END:VEVENT
BEGIN:VEVENT
DTSTART;TZID=America/New_York:20251125T190000
DTEND;TZID=America/New_York:20251125T200000
DTSTAMP:20260420T191623
CREATED:20251030T181147Z
LAST-MODIFIED:20251030T181147Z
UID:10003006-1764097200-1764100800@www.thebartramclub.com
SUMMARY:HOA Trinity Property Services
DESCRIPTION:
URL:https://www.thebartramclub.com/event/hoa-trinity-property-services/
END:VEVENT
BEGIN:VEVENT
DTSTART;TZID=America/New_York:20251121T170000
DTEND;TZID=America/New_York:20251121T200000
DTSTAMP:20260420T191623
CREATED:20251030T181631Z
LAST-MODIFIED:20251030T181631Z
UID:10003011-1763744400-1763755200@www.thebartramclub.com
SUMMARY:Food Truck Friday
DESCRIPTION:
URL:https://www.thebartramclub.com/event/food-truck-friday-21/
END:VEVENT
BEGIN:VEVENT
DTSTART;TZID=America/New_York:20251121T170000
DTEND;TZID=America/New_York:20251121T200000
DTSTAMP:20260420T191623
CREATED:20240424T161752Z
LAST-MODIFIED:20240424T161752Z
UID:10000344-1763744400-1763755200@www.thebartramclub.com
SUMMARY:Food Truck Friday
DESCRIPTION:Join us on Fridays for a mouthwatering extravaganza at Food Truck Friday! Savor delectable bites from a variety of gourmet food trucks and indulge in a culinary adventure like no other!
URL:https://www.thebartramclub.com/event/food-truck-friday/2025-11-21/
LOCATION:Bartram Clubhouse\, 14530 E Cherry Lake Dr\, Jacksonville\, FL\, 32258\, United States
CATEGORIES:Food Trucks
ATTACH;FMTTYPE=image/jpeg:https://www.thebartramclub.com/wp-content/uploads/2024/04/food-truck-friday.jpg
END:VEVENT
BEGIN:VEVENT
DTSTART;TZID=America/New_York:20251119T180000
DTEND;TZID=America/New_York:20251119T190000
DTSTAMP:20260420T191623
CREATED:20251030T181041Z
LAST-MODIFIED:20251030T181041Z
UID:10003005-1763575200-1763578800@www.thebartramclub.com
SUMMARY:HOA Floridian Property Management
DESCRIPTION:
URL:https://www.thebartramclub.com/event/hoa-floridian-property-management/
END:VEVENT
BEGIN:VEVENT
DTSTART;TZID=America/New_York:20251115T090000
DTEND;TZID=America/New_York:20251115T110000
DTSTAMP:20260420T191623
CREATED:20251030T180927Z
LAST-MODIFIED:20251030T180927Z
UID:10003004-1763197200-1763204400@www.thebartramclub.com
SUMMARY:Babysitting Course
DESCRIPTION:Social Hall
URL:https://www.thebartramclub.com/event/babysitting-course-2/
END:VEVENT
BEGIN:VEVENT
DTSTART;TZID=America/New_York:20251115T080000
DTEND;TZID=America/New_York:20251115T170000
DTSTAMP:20260420T191623
CREATED:20251030T180836Z
LAST-MODIFIED:20251030T180836Z
UID:10003003-1763193600-1763226000@www.thebartramclub.com
SUMMARY:Kids Night Out
DESCRIPTION:
URL:https://www.thebartramclub.com/event/kids-night-out-5/
END:VEVENT
BEGIN:VEVENT
DTSTART;TZID=America/New_York:20251114T170000
DTEND;TZID=America/New_York:20251114T200000
DTSTAMP:20260420T191623
CREATED:20251030T181554Z
LAST-MODIFIED:20251030T181554Z
UID:10003010-1763139600-1763150400@www.thebartramclub.com
SUMMARY:Food Truck Friday
DESCRIPTION:
URL:https://www.thebartramclub.com/event/food-truck-friday-20/
END:VEVENT
BEGIN:VEVENT
DTSTART;TZID=America/New_York:20251114T170000
DTEND;TZID=America/New_York:20251114T200000
DTSTAMP:20260420T191623
CREATED:20251002T193333Z
LAST-MODIFIED:20251030T180800Z
UID:10003000-1763139600-1763150400@www.thebartramclub.com
SUMMARY:Coasters Band at Food Truck Friday
DESCRIPTION:
URL:https://www.thebartramclub.com/event/coasters-band-at-food-truck-friday/
END:VEVENT
BEGIN:VEVENT
DTSTART;TZID=America/New_York:20251114T170000
DTEND;TZID=America/New_York:20251114T200000
DTSTAMP:20260420T191623
CREATED:20240424T161752Z
LAST-MODIFIED:20240424T161752Z
UID:10000343-1763139600-1763150400@www.thebartramclub.com
SUMMARY:Food Truck Friday
DESCRIPTION:Join us on Fridays for a mouthwatering extravaganza at Food Truck Friday! Savor delectable bites from a variety of gourmet food trucks and indulge in a culinary adventure like no other!
URL:https://www.thebartramclub.com/event/food-truck-friday/2025-11-14/
LOCATION:Bartram Clubhouse\, 14530 E Cherry Lake Dr\, Jacksonville\, FL\, 32258\, United States
CATEGORIES:Food Trucks
ATTACH;FMTTYPE=image/jpeg:https://www.thebartramclub.com/wp-content/uploads/2024/04/food-truck-friday.jpg
END:VEVENT
BEGIN:VEVENT
DTSTART;TZID=America/New_York:20251112T170000
DTEND;TZID=America/New_York:20251112T200000
DTSTAMP:20260420T191623
CREATED:20241031T001059Z
LAST-MODIFIED:20251030T180715Z
UID:10002880-1762966800-1762977600@www.thebartramclub.com
SUMMARY:Chick-Fil-A Night
DESCRIPTION:Amenity Center
URL:https://www.thebartramclub.com/event/chic-fil-a-2/
ATTACH;FMTTYPE=image/png:https://www.thebartramclub.com/wp-content/uploads/2024/04/Screenshot-2024-03-29-at-11.27.13-AM.png
END:VEVENT
BEGIN:VEVENT
DTSTART;TZID=America/New_York:20251111T080000
DTEND;TZID=America/New_York:20251111T170000
DTSTAMP:20260420T191623
CREATED:20251030T181913Z
LAST-MODIFIED:20251030T181913Z
UID:10003014-1762848000-1762880400@www.thebartramclub.com
SUMMARY:Veterans Day
DESCRIPTION:
URL:https://www.thebartramclub.com/event/veterans-day/
END:VEVENT
BEGIN:VEVENT
DTSTART;TZID=America/New_York:20251110T180000
DTEND;TZID=America/New_York:20251110T200000
DTSTAMP:20260420T191623
CREATED:20251002T192854Z
LAST-MODIFIED:20251030T180643Z
UID:10002996-1762797600-1762804800@www.thebartramclub.com
SUMMARY:CDD Meeting
DESCRIPTION:Social Hall
URL:https://www.thebartramclub.com/event/cdd-meeting-5/
END:VEVENT
BEGIN:VEVENT
DTSTART;TZID=America/New_York:20251107T193000
DTEND;TZID=America/New_York:20251107T213000
DTSTAMP:20260420T191623
CREATED:20251030T180530Z
LAST-MODIFIED:20251030T180530Z
UID:10003002-1762543800-1762551000@www.thebartramclub.com
SUMMARY:Movie on the Lawn
DESCRIPTION:
URL:https://www.thebartramclub.com/event/movie-on-the-lawn-4/
END:VEVENT
BEGIN:VEVENT
DTSTART;TZID=America/New_York:20251107T170000
DTEND;TZID=America/New_York:20251107T200000
DTSTAMP:20260420T191623
CREATED:20251030T181521Z
LAST-MODIFIED:20251030T181521Z
UID:10003009-1762534800-1762545600@www.thebartramclub.com
SUMMARY:Food Truck Friday
DESCRIPTION:
URL:https://www.thebartramclub.com/event/food-truck-friday-19/
END:VEVENT
BEGIN:VEVENT
DTSTART;TZID=America/New_York:20251107T170000
DTEND;TZID=America/New_York:20251107T200000
DTSTAMP:20260420T191623
CREATED:20240424T161752Z
LAST-MODIFIED:20240424T161752Z
UID:10000342-1762534800-1762545600@www.thebartramclub.com
SUMMARY:Food Truck Friday
DESCRIPTION:Join us on Fridays for a mouthwatering extravaganza at Food Truck Friday! Savor delectable bites from a variety of gourmet food trucks and indulge in a culinary adventure like no other!
URL:https://www.thebartramclub.com/event/food-truck-friday/2025-11-07/
LOCATION:Bartram Clubhouse\, 14530 E Cherry Lake Dr\, Jacksonville\, FL\, 32258\, United States
CATEGORIES:Food Trucks
ATTACH;FMTTYPE=image/jpeg:https://www.thebartramclub.com/wp-content/uploads/2024/04/food-truck-friday.jpg
END:VEVENT
BEGIN:VEVENT
DTSTART;TZID=America/New_York:20251102T180000
DTEND;TZID=America/New_York:20251102T210000
DTSTAMP:20260420T191623
CREATED:20251030T180429Z
LAST-MODIFIED:20251030T180429Z
UID:10003001-1762106400-1762117200@www.thebartramclub.com
SUMMARY:NOBB
DESCRIPTION:
URL:https://www.thebartramclub.com/event/nobb-2/
END:VEVENT
BEGIN:VEVENT
DTSTART;TZID=America/New_York:20251101T080000
DTEND;TZID=America/New_York:20251101T170000
DTSTAMP:20260420T191623
CREATED:20251030T181434Z
LAST-MODIFIED:20251030T181435Z
UID:10003008-1761984000-1762016400@www.thebartramclub.com
SUMMARY:Flag Football Registration Begins
DESCRIPTION:
URL:https://www.thebartramclub.com/event/flag-football-registration-begins/
END:VEVENT
BEGIN:VEVENT
DTSTART;TZID=America/New_York:20251031T170000
DTEND;TZID=America/New_York:20251031T200000
DTSTAMP:20260420T191623
CREATED:20251030T181755Z
LAST-MODIFIED:20251030T181755Z
UID:10003013-1761930000-1761940800@www.thebartramclub.com
SUMMARY:Food Truck Friday
DESCRIPTION:
URL:https://www.thebartramclub.com/event/food-truck-friday-23/
END:VEVENT
BEGIN:VEVENT
DTSTART;TZID=America/New_York:20251031T170000
DTEND;TZID=America/New_York:20251031T200000
DTSTAMP:20260420T191623
CREATED:20240424T161752Z
LAST-MODIFIED:20240424T161752Z
UID:10000341-1761930000-1761940800@www.thebartramclub.com
SUMMARY:Food Truck Friday
DESCRIPTION:Join us on Fridays for a mouthwatering extravaganza at Food Truck Friday! Savor delectable bites from a variety of gourmet food trucks and indulge in a culinary adventure like no other!
URL:https://www.thebartramclub.com/event/food-truck-friday/2025-10-31/
LOCATION:Bartram Clubhouse\, 14530 E Cherry Lake Dr\, Jacksonville\, FL\, 32258\, United States
CATEGORIES:Food Trucks
ATTACH;FMTTYPE=image/jpeg:https://www.thebartramclub.com/wp-content/uploads/2024/04/food-truck-friday.jpg
END:VEVENT
BEGIN:VEVENT
DTSTART;TZID=America/New_York:20251028T190000
DTEND;TZID=America/New_York:20251028T200000
DTSTAMP:20260420T191623
CREATED:20251002T193133Z
LAST-MODIFIED:20251002T193133Z
UID:10002999-1761678000-1761681600@www.thebartramclub.com
SUMMARY:HOA Meeting- Trinity
DESCRIPTION:Social Hall
URL:https://www.thebartramclub.com/event/hoa-meeting-trinity-2/
END:VEVENT
BEGIN:VEVENT
DTSTART;TZID=America/New_York:20251025T180000
DTEND;TZID=America/New_York:20251025T210000
DTSTAMP:20260420T191623
CREATED:20251002T193018Z
LAST-MODIFIED:20251002T193018Z
UID:10002998-1761415200-1761426000@www.thebartramclub.com
SUMMARY:Fall Festival
DESCRIPTION:Amenity Center
URL:https://www.thebartramclub.com/event/fall-festival-2/
END:VEVENT
BEGIN:VEVENT
DTSTART;TZID=America/New_York:20251024T170000
DTEND;TZID=America/New_York:20251024T200000
DTSTAMP:20260420T191623
CREATED:20240424T161752Z
LAST-MODIFIED:20240424T161752Z
UID:10000340-1761325200-1761336000@www.thebartramclub.com
SUMMARY:Food Truck Friday
DESCRIPTION:Join us on Fridays for a mouthwatering extravaganza at Food Truck Friday! Savor delectable bites from a variety of gourmet food trucks and indulge in a culinary adventure like no other!
URL:https://www.thebartramclub.com/event/food-truck-friday/2025-10-24/
LOCATION:Bartram Clubhouse\, 14530 E Cherry Lake Dr\, Jacksonville\, FL\, 32258\, United States
CATEGORIES:Food Trucks
ATTACH;FMTTYPE=image/jpeg:https://www.thebartramclub.com/wp-content/uploads/2024/04/food-truck-friday.jpg
END:VEVENT
BEGIN:VEVENT
DTSTART;TZID=America/New_York:20251018T170000
DTEND;TZID=America/New_York:20251018T210000
DTSTAMP:20260420T191623
CREATED:20251002T192938Z
LAST-MODIFIED:20251002T192938Z
UID:10002997-1760806800-1760821200@www.thebartramclub.com
SUMMARY:Kids Night Out
DESCRIPTION:
URL:https://www.thebartramclub.com/event/kids-night-out-4/
END:VEVENT
BEGIN:VEVENT
DTSTART;TZID=America/New_York:20251017T170000
DTEND;TZID=America/New_York:20251017T200000
DTSTAMP:20260420T191623
CREATED:20240424T161752Z
LAST-MODIFIED:20240424T161752Z
UID:10000339-1760720400-1760731200@www.thebartramclub.com
SUMMARY:Food Truck Friday
DESCRIPTION:Join us on Fridays for a mouthwatering extravaganza at Food Truck Friday! Savor delectable bites from a variety of gourmet food trucks and indulge in a culinary adventure like no other!
URL:https://www.thebartramclub.com/event/food-truck-friday/2025-10-17/
LOCATION:Bartram Clubhouse\, 14530 E Cherry Lake Dr\, Jacksonville\, FL\, 32258\, United States
CATEGORIES:Food Trucks
ATTACH;FMTTYPE=image/jpeg:https://www.thebartramclub.com/wp-content/uploads/2024/04/food-truck-friday.jpg
END:VEVENT
END:VCALENDAR